BEGIN:VCALENDAR
VERSION:2.0
PRODID:-//ChamberMaster//Event Calendar 2.0//EN
METHOD:PUBLISH
X-PUBLISHED-TTL:P3D
REFRESH-INTERVAL:P3D
CALSCALE:GREGORIAN
BEGIN:VEVENT
DTSTART:20160419T230000Z
DTEND:20160420T010000Z
X-MICROSOFT-CDO-ALLDAYEVENT:FALSE
SUMMARY:Session 2-Adobe Photoshop Intro. Class
DESCRIPTION:Learn to create and edit professional quality graphics using the industry standard: Photoshop. Each course meets once per week for 6 weeks.
X-ALT-DESC;FMTTYPE=text/html:Learn to create and edit professional quality graphics using the industry standard: Photoshop. Each course meets once per week for 6 weeks.
LOCATION:eSkills Library & Job Center (2800 Stark St.\, Ft. Worth TX)
UID:e.1262.2501
SEQUENCE:3
DTSTAMP:20260422T091250Z
URL:https://business.fwmbcc.org/events/details/session-2-adobe-photoshop-intro-class-04-19-2016-2501
END:VEVENT

END:VCALENDAR
