BEGIN:VCALENDAR
VERSION:2.0
PRODID:-//ChamberMaster//Event Calendar 2.0//EN
METHOD:PUBLISH
X-PUBLISHED-TTL:P3D
REFRESH-INTERVAL:P3D
CALSCALE:GREGORIAN
BEGIN:VEVENT
DTSTART:20151216T180000Z
DTEND:20151216T190000Z
X-MICROSOFT-CDO-ALLDAYEVENT:FALSE
SUMMARY:Sen. Konni Burton District Office Ribbon Cutting
DESCRIPTION:District Office Ribbon Cutting in Tarrant County. Parking options: raised/open lot on East side of the building\, parking meter spots on 1st Street or in the lot across W. Weatherford from the building.
X-ALT-DESC;FMTTYPE=text/html:District Office Ribbon Cutting in Tarrant County. Parking options: raised/open lot on East side of the building\, parking meter spots on 1st Street or in the lot across W. Weatherford from the building.
LOCATION:933 W. Weatherford\, Suite 203\, Fort Worth TX 76102
UID:e.1262.2312
SEQUENCE:3
DTSTAMP:20260422T122103Z
URL:https://business.fwmbcc.org/events/details/sen-konni-burton-district-office-ribbon-cutting-12-16-2015-2312
END:VEVENT

END:VCALENDAR
