BEGIN:VCALENDAR
VERSION:2.0
PRODID:-//ChamberMaster//Event Calendar 2.0//EN
METHOD:PUBLISH
X-PUBLISHED-TTL:P3D
REFRESH-INTERVAL:P3D
CALSCALE:GREGORIAN
BEGIN:VEVENT
DTSTART:20180615T000000Z
DTEND:20180615T020000Z
X-MICROSOFT-CDO-ALLDAYEVENT:FALSE
SUMMARY:Securing the Capital Needed to Grow a Business in 2018
DESCRIPTION:Calling all aspiring and existing entrepreneurs! \n\nSCORE and OnDeck invite you to a workshop where you will:\n\n\n	Participate in an interactive fundability quiz\n	Find out about the different types of financing available and who provides it\n	Identify which financing options are right for different types of businesses   and how they get approved\n	Learn how to apply for financing\, and what to expect after the application is submitted\n\n\nSCORE is a resource partner with the SBA\n\nAll Instructors are Certified SCORE Mentors\n\n \n\nhttp://events.constantcontact.com/register/event?llr=fg4jspcab&oeidk=a07efe7cosr41abe58b
X-ALT-DESC;FMTTYPE=text/html:<div align="left" style="color: rgb(51\, 51\, 51)\; font-family: &quot\;Times New Roman&quot\;\, Times\, serif\; font-size: 16px\; background-color: rgb(255\, 255\, 255)\;"><span style="font-family: Arial\, Verdana\, Helvetica\, sans-serif\; font-size: 12px\;">Calling all aspiring and existing entrepreneurs!&nbsp\;</span></div>\n\n<div align="left" style="color: rgb(51\, 51\, 51)\; font-family: &quot\;Times New Roman&quot\;\, Times\, serif\; font-size: 16px\; background-color: rgb(255\, 255\, 255)\;"><span style="font-family: Arial\, Verdana\, Helvetica\, sans-serif\; font-size: 12px\;">SCORE and OnDeck invite you to a workshop where you will:</span></div>\n\n<ul>\n	<li style="color: rgb(51\, 51\, 51)\; font-family: &quot\;Times New Roman&quot\;\, Times\, serif\; font-size: 16px\; background-color: rgb(255\, 255\, 255)\;"><span style="font-family: Arial\, Verdana\, Helvetica\, sans-serif\; font-size: 12px\;">Participate in an interactive fundability quiz</span></li>\n	<li style="color: rgb(51\, 51\, 51)\; font-family: &quot\;Times New Roman&quot\;\, Times\, serif\; font-size: 16px\; background-color: rgb(255\, 255\, 255)\;"><span style="font-family: Arial\, Verdana\, Helvetica\, sans-serif\; font-size: 12px\;">Find out about the different types of financing available and who provides it</span></li>\n	<li style="color: rgb(51\, 51\, 51)\; font-family: &quot\;Times New Roman&quot\;\, Times\, serif\; font-size: 16px\; background-color: rgb(255\, 255\, 255)\;"><span style="font-family: Arial\, Verdana\, Helvetica\, sans-serif\; font-size: 12px\;">Identify which financing options are right for different types of businesses &ndash\; and how they get approved</span></li>\n	<li style="color: rgb(51\, 51\, 51)\; font-family: &quot\;Times New Roman&quot\;\, Times\, serif\; font-size: 16px\; background-color: rgb(255\, 255\, 255)\;"><span style="font-family: Arial\, Verdana\, Helvetica\, sans-serif\; font-size: 12px\;">Learn how to apply for financing\, and what to expect after the application is submitted</span></li>\n</ul>\n\n<div style="color: rgb(51\, 51\, 51)\; font-family: &quot\;Times New Roman&quot\;\, Times\, serif\; font-size: 16px\; background-color: rgb(255\, 255\, 255)\;"><span style="font-family: Arial\, Verdana\, Helvetica\, sans-serif\; font-size: 12px\; font-weight: bold\;">SCORE is a resource partner with the SBA</span></div>\n\n<div style="color: rgb(51\, 51\, 51)\; font-family: &quot\;Times New Roman&quot\;\, Times\, serif\; font-size: 16px\; background-color: rgb(255\, 255\, 255)\;"><span style="font-family: Arial\, Verdana\, Helvetica\, sans-serif\; font-size: 12px\; font-weight: bold\;">All Instructors are Certified SCORE Mentors</span></div>\n\n<div style="color: rgb(51\, 51\, 51)\; font-family: &quot\;Times New Roman&quot\;\, Times\, serif\; font-size: 16px\; background-color: rgb(255\, 255\, 255)\;">&nbsp\;</div>\n\n<div style="color: rgb(51\, 51\, 51)\; font-family: &quot\;Times New Roman&quot\;\, Times\, serif\; font-size: 16px\; background-color: rgb(255\, 255\, 255)\;"><a data-saferedirecturl="https://www.google.com/url?hl=en&amp\;q=http://events.constantcontact.com/register/event?llr%3Dfg4jspcab%26oeidk%3Da07efe7cosr41abe58b&amp\;source=gmail&amp\;ust=1528295915605000&amp\;usg=AFQjCNGG_9vd5hDXsiNraJuynbZUtR2nqg" href="http://events.constantcontact.com/register/event?llr=fg4jspcab&amp\;oeidk=a07efe7cosr41abe58b" style="color: rgb(17\, 85\, 204)\;" target="_blank">http://events.constantcontact.<wbr />com/register/event?llr=fg4jspc<wbr />ab&amp\;oeidk=a07efe7cosr41abe58b</a></div>\n
LOCATION:PinnStation 201 East Abram Street #120 Arlington\, TX 76010
UID:e.1262.4108
SEQUENCE:3
DTSTAMP:20260422T073713Z
URL:https://business.fwmbcc.org/events/details/securing-the-capital-needed-to-grow-a-business-in-2018-4108
END:VEVENT

END:VCALENDAR
