BEGIN:VCALENDAR
VERSION:2.0
PRODID:-//ChamberMaster//Event Calendar 2.0//EN
METHOD:PUBLISH
X-PUBLISHED-TTL:P3D
REFRESH-INTERVAL:P3D
CALSCALE:GREGORIAN
BEGIN:VEVENT
DTSTART:20180322T163000Z
DTEND:20180322T183000Z
X-MICROSOFT-CDO-ALLDAYEVENT:FALSE
SUMMARY:SBA 8(a) and HUBzone Certification Orientation
DESCRIPTION:The 8(a) Business Development Program is a business assistance program for small disadvantaged businesses. The 8(a) Program offers a broad scope of assistance to firms that are owned and controlled at least 51% by socially and economically disadvantaged individuals.\n\n						In order to participate in the 8(a) Business Program\, a business has to go through a certification process.  Oftentimes this can be a confusing and lengthy process. The purpose of the workshop is to lessen the burden and confusion of going through the 8(a) certification process. Once certified\, you are able to apply for federal contracts under the 8(a) Preferred Minority Business designation\, and possibly receive sole-source contracts (up to a ceiling of $4 million for goods and services and $6.5 million for manufacturing).  The workshop will consist of an orientation session on: Thursday\, March 22\, 2018 from 11:30 am to 1:30 pm  there will be a one day Saturday workshop scheduled next month. \n						\n\n						 \n\n						In order to participate in the orientation\, a business will need to be registered or have begun the process of registering in the System For Award Management (SAM) database. We will be offering a SAM workshop prior to the 8(a) Certification Workshops. \n\n						Workshop conducted by:\n\n						\n							\n								\n									\n									\n										\n											\n												\n												\n												Nancy N. Alvarez\n\n												Supervisor\, 8(a) Business Development Program\n\n												Dallas Fort Worth District Office\n\n												U.S. Small Business Administration\n												\n												\n											\n										\n									\n									 \n								\n							\n						\n\n						 \n\n						Nancy N. Alvarez was selected to head the 8(a) Business Development Program for the U.S. Small Business Administration\, Dallas/Fort Worth District Office on September 11\, 2011.  She is instrumental in providing leadership\, management and oversight to optimize the deployment of SBA's Federal Contracting programs and services within a 72 county geographical area covering North Texas. \n\n						 \n\n						As the SBA's Women Ownership Business Representative\, she is responsible for increasing participation of women owned small businesses in Federal Contracting Programs and advocates to local Federal agencies on behalf of Women Owned Small Businesses (WOSBs). \n\n						 \n\n						Nancy graduated from Jacksonville University with a Bachelor degree in Business Administration (Magna Cum Laude). She is a member of Phi Beta Kappa Honor.  She served on the Board of the City of Jacksonville\, Mayor's Hispanic American Advisory Board and the Mayor's Small & Emerging Business Advisory Council.  Additionally\, she served as an advisory board member in the Beaver Street Enterprise Center\, Jacksonville's first business incubator. \n\n						 \n\n						Nancy is currently a advisory board member of the Dallas/Fort Worth Federal Agency Small Business Advocacy Council (FASBAC)\, a small business professional's forum where federal agencies share\, gather\, and create ideas that promote small businesses' interest and participation in the federal marketplace.  \n						\n						\n						\n					\n				\n			\n			\n		\n		\n			\n			\n				\n					\n						Get more information\n					\n					\n						Register Now!\n					\n					\n						I can't make it\n					\n				\n			\n			\n		\n		\n			\n			\n				\n					\n						\n						If you have questions or need additional information contact Fort Worth SCORE\n\n						 \n\n						AND thank you for your attention and response. We look forward to seeing you at this very productive event.
X-ALT-DESC;FMTTYPE=text/html:<table border="0" cellpadding="0" cellspacing="0" class="m_84686896472349713m_7405820467959046313RightColWidth" style="color: rgb(34\, 34\, 34)\; font-family: arial\, sans-serif\; font-size: 12.8px\; background-color: rgb(255\, 255\, 255)\; width: 385px\;" width="385">\n	<tbody>\n		<tr>\n			<td align="left" class="m_84686896472349713m_7405820467959046313LeftColPad" colspan="1" rowspan="1" style="margin: 0px\; padding: 0px\;" valign="top" width="100%">\n			<table border="0" cellpadding="5" cellspacing="0" class="m_84686896472349713m_7405820467959046313BlockMargin" id="m_84686896472349713m_7405820467959046313content_LETTER.BLOCK5" style="margin-bottom: 5px\;" width="100%">\n				<tbody>\n					<tr>\n						<td align="left" class="m_84686896472349713m_7405820467959046313MainText" colspan="1" id="m_84686896472349713m_7405820467959046313evm-content-maintext" rowspan="1" style="font-family: Arial\, Helvetica\, sans-serif\; margin: 0px\; color: rgb(51\, 51\, 51)\; font-size: 10pt\;">\n						<div class="m_84686896472349713m_7405820467959046313pageli" style="color: rgb(255\, 0\, 0)\; font-size: 14pt\;">\n						<div style="color: rgb(0\, 0\, 0)\;">\n						<div style="color: rgb(38\, 40\, 42)\; font-size: 13px\; font-family: &quot\;Helvetica Neue&quot\;\, Helvetica\, Arial\, sans-serif\;">\n						<div class="m_84686896472349713m_7405820467959046313yiv7784888477MsoNormal" style="line-height: 13.05pt\; margin-bottom: 3.75pt\;"><span style="font-size: 12pt\; line-height: 18.4px\;"><span style="color: black\; font-size: 12pt\; font-family: Arial\, sans-serif\;">The 8(a) Business Development Program is a business assistance program for small disadvantaged businesses. The 8(a) Program offers a broad scope of assistance to firms that are owned and controlled at least 51% by socially and economically disadvantaged individuals</span><span style="color: black\; font-size: 9pt\; font-family: Arial\, sans-serif\;">.</span></span></div>\n\n						<div class="m_84686896472349713m_7405820467959046313yiv7784888477MsoNormal" style="line-height: 13.05pt\; margin-bottom: 3.75pt\;"><span style="font-size: 12pt\; line-height: 18.4px\;"><span style="color: black\; font-size: 12pt\; font-family: Arial\, sans-serif\;">In order to participate in the 8(a) Business Program\, a business has to go through a certification process.&nbsp\; Oftentimes this can be a confusing and lengthy process. The purpose of the workshop is to lessen the burden and confusion of going through the 8(a) certification process. Once certified\, you are able to apply for federal contracts under the 8(a) Preferred Minority Business designation\, and possibly receive sole-source contracts (up to a ceiling of $4 million for goods and services and $6.5 million for manufacturing).&nbsp\; The workshop will consist of an orientation session on:&nbsp\;<span class="aBn" data-term="goog_600289091" style="border-bottom: 1px dashed rgb(204\, 204\, 204)\; position: relative\; top: -2px\; z-index: 0\;" tabindex="0"><span class="aQJ" style="position: relative\; top: 2px\; z-index: -1\;">Thursday\, March 22\, 2018 from 11:30 am to 1:30 pm</span></span>&nbsp\; there will be a one day Saturday workshop scheduled next month.&nbsp\;</span></span></div>\n						</div>\n\n						<div style="color: rgb(38\, 40\, 42)\; font-size: 13px\; font-family: &quot\;Helvetica Neue&quot\;\, Helvetica\, Arial\, sans-serif\;">&nbsp\;</div>\n\n						<div style="color: rgb(38\, 40\, 42)\; font-size: 13px\; font-family: &quot\;Helvetica Neue&quot\;\, Helvetica\, Arial\, sans-serif\;"><span style="font-size: 12pt\; line-height: 18.4px\;"><span style="color: blue\; text-decoration-line: underline\; font-size: 12pt\; font-family: Arial\, sans-serif\;"><strong>In order to participate in the orientation</strong></span><span style="color: black\; font-size: 12pt\; font-family: Arial\, sans-serif\;">\, a business will need to be registered or have begun the process of registering in the System For Award Management (SAM) database. We will be offering a SAM workshop prior to the 8(a) Certification Workshops.&nbsp\;</span></span></div>\n\n						<div style="color: rgb(38\, 40\, 42)\; font-size: 13px\; font-family: &quot\;Helvetica Neue&quot\;\, Helvetica\, Arial\, sans-serif\;"><span style="font-size: 12pt\; line-height: 18.4px\;"><span style="color: black\; font-size: 12pt\; font-family: Arial\, sans-serif\;">Workshop conducted by:</span></span></div>\n\n						<table cellpadding="0" cellspacing="0">\n							<tbody>\n								<tr>\n									<td bgcolor="white" colspan="1" height="122" rowspan="1" style="font-family: arial\, sans-serif\; margin: 0px\; background-image: initial\; background-position: initial\; background-size: initial\; background-repeat: initial\; background-attachment: initial\; background-origin: initial\; background-clip: initial\; vertical-align: top\;" width="426">\n									<table cellpadding="0" cellspacing="0" width="100%">\n										<tbody>\n											<tr>\n												<td colspan="1" rowspan="1" style="margin: 0px\;">\n												<div class="m_84686896472349713m_7405820467959046313shape" style="padding: 3.6pt 7.2pt\;">\n												<div align="center" style="text-align: center\;"><span style="font-size: 12pt\; line-height: 18.4px\;"><span style="font-size: 18pt\;"><b>Nancy N. Alvarez</b></span></span></div>\n\n												<div align="center" style="text-align: center\;"><span style="font-size: 12pt\; line-height: 18.4px\;">Supervisor\, 8(a) Business Development Program</span></div>\n\n												<div align="center" style="text-align: center\;"><span style="font-size: 12pt\; line-height: 18.4px\;">Dallas Fort Worth District Office</span></div>\n\n												<div align="center" style="text-align: center\;"><span style="font-size: 12pt\; line-height: 18.4px\;">U.S. Small Business Administration</span></div>\n												</div>\n												</td>\n											</tr>\n										</tbody>\n									</table>\n									<span style="font-size: 12pt\; line-height: 18.4px\;">&nbsp\;</span></td>\n								</tr>\n							</tbody>\n						</table>\n\n						<div align="center" style="text-align: center\;"><span style="font-size: 12pt\; line-height: 18.4px\;"><span style="font-size: 16pt\;"><b>&nbsp\;</b></span></span></div>\n\n						<div align="justify" style="text-align: justify\;"><span style="font-size: 12pt\; line-height: 18.4px\;"><span style="font-size: 12pt\;">Nancy N. Alvarez was selected to head the 8(a) Business Development Program for the U.S. Small Business Administration\, Dallas/Fort Worth District Office on September 11\, 2011.&nbsp\; She is instrumental in providing leadership\, management and oversight to optimize the deployment of SBA&#39\;s Federal Contracting programs and services within a 72 county geographical area covering North Texas.&nbsp\;</span></span></div>\n\n						<div align="justify" style="text-align: justify\;"><span style="font-size: 12pt\; line-height: 18.4px\;">&nbsp\;</span></div>\n\n						<div><span style="font-size: 12pt\; line-height: 18.4px\;">As the SBA&#39\;s Women Ownership Business Representative\, she is responsible for increasing participation of women owned small businesses in Federal Contracting Programs and advocates to local Federal agencies on behalf of Women Owned Small Businesses (WOSBs).&nbsp\;</span></div>\n\n						<div><span style="font-size: 12pt\; line-height: 18.4px\;">&nbsp\;</span></div>\n\n						<div><span style="font-size: 12pt\; line-height: 18.4px\;">Nancy graduated from Jacksonville University with a Bachelor degree in Business Administration (Magna Cum Laude). She is a member of Phi Beta Kappa Honor.&nbsp\; She served on the Board of the City of Jacksonville\, Mayor&#39\;s Hispanic American Advisory Board and the Mayor&#39\;s Small &amp\; Emerging Business Advisory Council.&nbsp\; Additionally\, she served as an advisory board member in the Beaver Street Enterprise Center\, Jacksonville&#39\;s first business incubator.&nbsp\;</span></div>\n\n						<div><span style="font-size: 12pt\; line-height: 18.4px\;">&nbsp\;</span></div>\n\n						<div><span style="font-size: 12pt\; line-height: 18.4px\;">Nancy is currently a advisory board member of the Dallas/Fort Worth Federal Agency Small Business Advocacy Council (FASBAC)\, a small business professional&#39\;s forum where federal agencies share\, gather\, and create ideas that promote small businesses&#39\; interest and participation in the federal marketplace.&nbsp\;&nbsp\;</span></div>\n						</div>\n						</div>\n						</td>\n					</tr>\n				</tbody>\n			</table>\n			</td>\n		</tr>\n		<tr>\n			<td align="left" colspan="1" rowspan="1" style="margin: 0px\;" valign="top" width="100%">\n			<table border="0" cellpadding="5" cellspacing="0" class="m_84686896472349713m_7405820467959046313BlockMargin" style="margin-bottom: 5px\;" width="100%">\n				<tbody>\n					<tr>\n						<td align="center" class="m_84686896472349713m_7405820467959046313cc-register m_84686896472349713m_7405820467959046313cc-link-sm" colspan="1" rowspan="1" style="font-family: Arial\, Helvetica\, sans-serif\; margin: 0px\; color: rgb(51\, 51\, 51)\; font-size: 12pt\;"><a class="m_84686896472349713m_7405820467959046313cc-register m_84686896472349713m_7405820467959046313cc-link-sm" data-saferedirecturl="https://www.google.com/url?hl=en&amp\;q=http://events.r20.constantcontact.com/register/event?oeidk%3Da07ef4ibnus548821df%26c%3D6f5d43b0-93e0-11e7-a5d6-d4ae52806905%26ch%3D6f8e65d0-93e0-11e7-a5d6-d4ae52806905&amp\;source=gmail&amp\;ust=1519859893935000&amp\;usg=AFQjCNFcQZFYTqvehwaxWkWF8uXss7h_RQ" href="http://events.r20.constantcontact.com/register/event?oeidk=a07ef4ibnus548821df&amp\;c=6f5d43b0-93e0-11e7-a5d6-d4ae52806905&amp\;ch=6f8e65d0-93e0-11e7-a5d6-d4ae52806905" id="m_84686896472349713m_7405820467959046313lnkMoreInfo" shape="rect" style="color: rgb(51\, 51\, 51)\; font-size: 12pt\;" target="_blank" title="Get more information">Get more information</a></td>\n					</tr>\n					<tr>\n						<td align="center" class="m_84686896472349713m_7405820467959046313cc-register" colspan="1" rowspan="1" style="font-family: Arial\, Helvetica\, sans-serif\; margin: 0px\; color: rgb(51\, 51\, 51)\; font-size: 14pt\;"><b><a class="m_84686896472349713m_7405820467959046313cc-register" data-saferedirecturl="https://www.google.com/url?hl=en&amp\;q=http://events.r20.constantcontact.com/register/regform?oeidk%3Da07ef4ibnus548821df%26c%3D6f5d43b0-93e0-11e7-a5d6-d4ae52806905%26ch%3D6f8e65d0-93e0-11e7-a5d6-d4ae52806905&amp\;source=gmail&amp\;ust=1519859893935000&amp\;usg=AFQjCNEkcCEGjjVGU5ihO8aRSIDhiq5xaQ" href="http://events.r20.constantcontact.com/register/regform?oeidk=a07ef4ibnus548821df&amp\;c=6f5d43b0-93e0-11e7-a5d6-d4ae52806905&amp\;ch=6f8e65d0-93e0-11e7-a5d6-d4ae52806905" id="m_84686896472349713m_7405820467959046313lnkRegister" shape="rect" style="color: rgb(51\, 51\, 51)\; font-size: 14pt\;" target="_blank" title="Register Now!">Register Now!</a></b></td>\n					</tr>\n					<tr>\n						<td align="center" class="m_84686896472349713m_7405820467959046313cc-register m_84686896472349713m_7405820467959046313cc-link-xsm" colspan="1" rowspan="1" style="font-family: Arial\, Helvetica\, sans-serif\; margin: 0px\; color: rgb(51\, 51\, 51)\; font-size: 10pt\;"><a class="m_84686896472349713m_7405820467959046313cc-register m_84686896472349713m_7405820467959046313cc-link-xsm" data-saferedirecturl="https://www.google.com/url?hl=en&amp\;q=http://events.r20.constantcontact.com/register/decline?oeidk%3Da07ef4ibnus548821df%26c%3D6f5d43b0-93e0-11e7-a5d6-d4ae52806905%26ch%3D6f8e65d0-93e0-11e7-a5d6-d4ae52806905&amp\;source=gmail&amp\;ust=1519859893935000&amp\;usg=AFQjCNFtX2DiEwk2Q29UL_stU443qCOQRw" href="http://events.r20.constantcontact.com/register/decline?oeidk=a07ef4ibnus548821df&amp\;c=6f5d43b0-93e0-11e7-a5d6-d4ae52806905&amp\;ch=6f8e65d0-93e0-11e7-a5d6-d4ae52806905" id="m_84686896472349713m_7405820467959046313lnkDecline" shape="rect" style="color: rgb(51\, 51\, 51)\; font-size: 10pt\;" target="_blank" title="I can't make it">I can&#39\;t make it</a></td>\n					</tr>\n				</tbody>\n			</table>\n			</td>\n		</tr>\n		<tr>\n			<td align="left" colspan="1" rowspan="1" style="margin: 0px\;" valign="top" width="100%">\n			<table border="0" cellpadding="5" cellspacing="0" class="m_84686896472349713m_7405820467959046313BlockMargin" id="m_84686896472349713m_7405820467959046313content_LETTER.BLOCK7" style="margin-bottom: 5px\;" width="100%">\n				<tbody>\n					<tr>\n						<td align="left" class="m_84686896472349713m_7405820467959046313MainText" colspan="1" id="m_84686896472349713m_7405820467959046313evm-content-maintext2" rowspan="1" style="font-family: Arial\, Helvetica\, sans-serif\; margin: 0px\; color: rgb(51\, 51\, 51)\; font-size: 10pt\;">\n						<div>If you have questions or need additional information contact Fort Worth SCORE</div>\n\n						<div>&nbsp\;</div>\n\n						<div>AND thank you for your attention and response. We look forward to seeing you at this very productive event.</div>\n						</td>\n					</tr>\n				</tbody>\n			</table>\n			</td>\n		</tr>\n	</tbody>\n</table>\n
LOCATION:Fort Worth SCORE Conference Room 1150 South Freeway\, Suite 108 Fort Worth\, Texas 76104
UID:e.1262.3089
SEQUENCE:3
DTSTAMP:20260422T023354Z
URL:https://business.fwmbcc.org/events/details/sba-8-a-and-hubzone-certification-orientation-3089
END:VEVENT

END:VCALENDAR
