BEGIN:VCALENDAR
VERSION:2.0
PRODID:-//ChamberMaster//Event Calendar 2.0//EN
METHOD:PUBLISH
X-PUBLISHED-TTL:P3D
REFRESH-INTERVAL:P3D
CALSCALE:GREGORIAN
BEGIN:VEVENT
DTSTART:20160323T170000Z
DTEND:20160323T190000Z
X-MICROSOFT-CDO-ALLDAYEVENT:FALSE
SUMMARY:SAVE THE DATE-Old Bags Luncheon
DESCRIPTION:Save the Date\, Old Bags Luncheon\, Benefitting the National Cowgirl Museum and Hall of Fame Educational Projects for Children
X-ALT-DESC;FMTTYPE=text/html:<strong>Save the Date\, Old Bags Luncheon\, Benefitting the National Cowgirl Museum and Hall of Fame Educational Projects for Children</strong><br />\n&nbsp\;
LOCATION:River Crest Country Club\, Fort Worth
UID:e.1262.2767
SEQUENCE:3
DTSTAMP:20260422T105312Z
URL:https://business.fwmbcc.org/events/details/save-the-date-old-bags-luncheon-03-23-2016-2767
END:VEVENT

END:VCALENDAR
