BEGIN:VCALENDAR
VERSION:2.0
PRODID:-//ChamberMaster//Event Calendar 2.0//EN
METHOD:PUBLISH
X-PUBLISHED-TTL:P3D
REFRESH-INTERVAL:P3D
CALSCALE:GREGORIAN
BEGIN:VEVENT
DTSTART:20160419T170000Z
DTEND:20160419T190000Z
X-MICROSOFT-CDO-ALLDAYEVENT:FALSE
SUMMARY:SAVE THE DATE-52nd Annual Blossoms Luncheon-Benefitting Gladney Center for Adoption
DESCRIPTION:Benefitting the Gladney Center for Adoption\, 52nd Annual Blossoms Luncheon
X-ALT-DESC;FMTTYPE=text/html:Benefitting&nbsp\;the Gladney&nbsp\;Center for Adoption\, 52nd Annual Blossoms Luncheon
LOCATION:Omni Hotel\, Fort Worth\, TX
UID:e.1262.2781
SEQUENCE:3
DTSTAMP:20260422T092036Z
URL:https://business.fwmbcc.org/events/details/save-the-date-52nd-annual-blossoms-luncheon-benefitting-gladney-center-for-adoption-04-19-2016-2781
END:VEVENT

END:VCALENDAR
