BEGIN:VCALENDAR
VERSION:2.0
PRODID:-//ChamberMaster//Event Calendar 2.0//EN
METHOD:PUBLISH
X-PUBLISHED-TTL:P3D
REFRESH-INTERVAL:P3D
CALSCALE:GREGORIAN
BEGIN:VEVENT
DTSTART:20160219T130000Z
DTEND:20160219T153000Z
X-MICROSOFT-CDO-ALLDAYEVENT:FALSE
SUMMARY:Regional Hispanic Contractors Assn. 9th Annual Pillar Awards Breakfast
DESCRIPTION:Regional Hispanic Contractors Association's 9th Annual Pillar Awards Breakfast.  \n\nPillar Awards: Project of the Year\; Public Entity of the Year\; General Contractor of the Year and Sub-Contractor of the year
X-ALT-DESC;FMTTYPE=text/html:<strong>Regional Hispanic Contractors Association&#39\;s&nbsp\;9th Annual Pillar Awards Breakfast. &nbsp\;<br />\nPillar Awards: Project of the Year\; Public Entity of the Year\; General Contractor of the Year and Sub-Contractor of the year</strong>
LOCATION:Omni Dallas Hotel\, 555 S. Lamar St.\, Dallas TX
UID:e.1262.2468
SEQUENCE:3
DTSTAMP:20260422T122010Z
URL:https://business.fwmbcc.org/events/details/regional-hispanic-contractors-assn-9th-annual-pillar-awards-breakfast-02-19-2016-2468
END:VEVENT

END:VCALENDAR
