BEGIN:VCALENDAR
VERSION:2.0
PRODID:-//ChamberMaster//Event Calendar 2.0//EN
METHOD:PUBLISH
X-PUBLISHED-TTL:P3D
REFRESH-INTERVAL:P3D
CALSCALE:GREGORIAN
BEGIN:VEVENT
DTSTART:20151017T000000Z
DTEND:20151017T020000Z
X-MICROSOFT-CDO-ALLDAYEVENT:FALSE
SUMMARY:Regional Black Contractors Assn. 2015 Signature Awards Ceremony
DESCRIPTION:2015 Awards Celebration- Topic: We Are As One\, Bringing Fort Worth and Dallas Together- Keynote Speaker\, Mayor Frank Jackson of Prairie View\, Texas
X-ALT-DESC;FMTTYPE=text/html:2015 Awards Celebration- Topic: We Are As One\, Bringing Fort Worth and Dallas Together- Keynote Speaker\, Mayor Frank Jackson of Prairie View\, Texas
LOCATION:Most Worshipful Prince Hall Grand Lodge of Texas 3433 Martin Luther King Fwy.\, Ft. Worth\, Texas
UID:e.1262.2225
SEQUENCE:3
DTSTAMP:20260422T092047Z
URL:https://business.fwmbcc.org/events/details/regional-black-contractors-assn-2015-signature-awards-ceremony-10-16-2015-2225
END:VEVENT

END:VCALENDAR
