BEGIN:VCALENDAR
VERSION:2.0
PRODID:-//ChamberMaster//Event Calendar 2.0//EN
METHOD:PUBLISH
X-PUBLISHED-TTL:P3D
REFRESH-INTERVAL:P3D
CALSCALE:GREGORIAN
BEGIN:VEVENT
DTSTART:20160402T200000Z
DTEND:20160403T000000Z
X-MICROSOFT-CDO-ALLDAYEVENT:FALSE
SUMMARY:Red Carpet Screening by the City of Forest Hill & Ft. Worth Metropolitan Black Chamber of Commerce
DESCRIPTION:Red Carpet Screening of the movie Gallows Road starring Ernie Hudson of Ghostbusters fame and Kevin Sorbo of Hercules fame.  Faith based film with the theme of God forgives....will you?
X-ALT-DESC;FMTTYPE=text/html:<strong>Red Carpet Screening of the movie Gallows Road starring Ernie Hudson of Ghostbusters fame and Kevin Sorbo of Hercules fame. &nbsp\;Faith based film with the theme of God forgives....will you?</strong>
LOCATION:Forest Hill Civic Convention Center 6901 Wichita St. Forest Hill\, TX
UID:e.1262.2823
SEQUENCE:3
DTSTAMP:20260422T092058Z
URL:https://business.fwmbcc.org/events/details/red-carpet-screening-by-the-city-of-forest-hill-ft-worth-metropolitan-black-chamber-of-commerce-04-02-2016-2823
END:VEVENT

END:VCALENDAR
