BEGIN:VCALENDAR
VERSION:2.0
PRODID:-//ChamberMaster//Event Calendar 2.0//EN
METHOD:PUBLISH
X-PUBLISHED-TTL:P3D
REFRESH-INTERVAL:P3D
CALSCALE:GREGORIAN
BEGIN:VEVENT
DTSTART:20180714T140000Z
DTEND:20180714T190000Z
X-MICROSOFT-CDO-ALLDAYEVENT:FALSE
SUMMARY:Quickbooks for Beginners
DESCRIPTION:Take this important five-hour workshop to get you started with setting up your QuickBooks and enable you to manage your business accounting system like a pro!\n\nSCORE Fort Worth along with Quickbooks instructor to walk you through:\n\n         working with lists\n\n         working with bank accounts\n\n         tracking and reconciling credit card transactions\n\n         entering sales information\n\n         receiving and making deposits \n\n         and.... finally entering and paying bills.\n\n        understand why banks preferred you using QuickBooks \n\nBring your laptops!!\n\nAttendees must have downloaded a trial version of Quickbooks or have their own version on their laptops.\n\n \n\nhttp://events.constantcontact.com/register/event?llr=fg4jspcab&oeidk=a07effl3ct595b0f08e
X-ALT-DESC;FMTTYPE=text/html:<div style="color: rgb(51\, 51\, 51)\; font-family: &quot\;Times New Roman&quot\;\, Times\, serif\; font-size: 16px\; background-color: rgb(255\, 255\, 255)\;"><span style="font-family: Arial\, Verdana\, Helvetica\, sans-serif\; font-size: 19px\;">Take this important five-hour workshop to get you started with setting up your QuickBooks and enable you to manage your business accounting system like a pro!</span></div>\n\n<div style="color: rgb(51\, 51\, 51)\; font-family: &quot\;Times New Roman&quot\;\, Times\, serif\; font-size: 16px\; background-color: rgb(255\, 255\, 255)\;"><span style="font-family: Arial\, Verdana\, Helvetica\, sans-serif\; font-size: 19px\;">SCORE Fort Worth along with&nbsp\;Quickbooks instructor to&nbsp\;walk you through:</span></div>\n\n<div style="color: rgb(51\, 51\, 51)\; font-family: &quot\;Times New Roman&quot\;\, Times\, serif\; font-size: 16px\; background-color: rgb(255\, 255\, 255)\;"><span style="font-size: 13px\;">&middot\;</span><span style="font-family: Georgia\, &quot\;Times New Roman&quot\;\, Times\, serif\; font-size: 9px\;">&nbsp\;&nbsp\;&nbsp\;&nbsp\;&nbsp\;&nbsp\;&nbsp\;</span><span style="font-family: Arial\, Verdana\, Helvetica\, sans-serif\; font-size: 19px\;">&nbsp\;working with lists</span></div>\n\n<div style="color: rgb(51\, 51\, 51)\; font-family: &quot\;Times New Roman&quot\;\, Times\, serif\; font-size: 16px\; background-color: rgb(255\, 255\, 255)\;"><span style="font-size: 13px\;">&middot\;</span><span style="font-family: Georgia\, &quot\;Times New Roman&quot\;\, Times\, serif\; font-size: 9px\;">&nbsp\;&nbsp\;&nbsp\;&nbsp\;&nbsp\;&nbsp\;&nbsp\;</span><span style="font-family: Arial\, Verdana\, Helvetica\, sans-serif\; font-size: 19px\;">&nbsp\;working with bank accounts</span></div>\n\n<div style="color: rgb(51\, 51\, 51)\; font-family: &quot\;Times New Roman&quot\;\, Times\, serif\; font-size: 16px\; background-color: rgb(255\, 255\, 255)\;"><span style="font-size: 13px\;">&middot\;</span><span style="font-family: Georgia\, &quot\;Times New Roman&quot\;\, Times\, serif\; font-size: 9px\;">&nbsp\;&nbsp\;&nbsp\;&nbsp\;&nbsp\;&nbsp\;&nbsp\;</span><span style="font-family: Arial\, Verdana\, Helvetica\, sans-serif\; font-size: 19px\;">&nbsp\;tracking and reconciling credit card transactions</span></div>\n\n<div style="color: rgb(51\, 51\, 51)\; font-family: &quot\;Times New Roman&quot\;\, Times\, serif\; font-size: 16px\; background-color: rgb(255\, 255\, 255)\;"><span style="font-size: 13px\;">&middot\;</span><span style="font-family: Georgia\, &quot\;Times New Roman&quot\;\, Times\, serif\; font-size: 9px\;">&nbsp\;&nbsp\;&nbsp\;&nbsp\;&nbsp\;&nbsp\;&nbsp\;</span><span style="font-family: Arial\, Verdana\, Helvetica\, sans-serif\; font-size: 19px\;">&nbsp\;entering sales information</span></div>\n\n<div style="color: rgb(51\, 51\, 51)\; font-family: &quot\;Times New Roman&quot\;\, Times\, serif\; font-size: 16px\; background-color: rgb(255\, 255\, 255)\;"><span style="font-size: 13px\;">&middot\;</span><span style="font-family: Georgia\, &quot\;Times New Roman&quot\;\, Times\, serif\; font-size: 9px\;">&nbsp\;&nbsp\;&nbsp\;&nbsp\;&nbsp\;&nbsp\;&nbsp\;</span><span style="font-family: Arial\, Verdana\, Helvetica\, sans-serif\; font-size: 19px\;">&nbsp\;receiving and making deposits&nbsp\;</span></div>\n\n<div style="color: rgb(51\, 51\, 51)\; font-family: &quot\;Times New Roman&quot\;\, Times\, serif\; font-size: 16px\; background-color: rgb(255\, 255\, 255)\;"><span style="font-size: 13px\;">&middot\;</span><span style="font-family: Georgia\, &quot\;Times New Roman&quot\;\, Times\, serif\; font-size: 9px\;">&nbsp\;&nbsp\;&nbsp\;&nbsp\;&nbsp\;&nbsp\;&nbsp\;</span><span style="font-family: Arial\, Verdana\, Helvetica\, sans-serif\; font-size: 19px\;">&nbsp\;and....&nbsp\;finally entering and paying bills.</span></div>\n\n<div style="color: rgb(51\, 51\, 51)\; font-family: &quot\;Times New Roman&quot\;\, Times\, serif\; font-size: 16px\; background-color: rgb(255\, 255\, 255)\;"><span style="font-size: 13px\;">&middot\;</span><span style="font-family: Georgia\, &quot\;Times New Roman&quot\;\, Times\, serif\; font-size: 9px\;">&nbsp\;&nbsp\;&nbsp\;&nbsp\;&nbsp\;&nbsp\;&nbsp\;</span><span style="font-family: Arial\, Verdana\, Helvetica\, sans-serif\; font-size: 19px\;">understand why banks preferred&nbsp\;you using QuickBooks&nbsp\;</span></div>\n\n<div align="center" style="color: rgb(51\, 51\, 51)\; font-family: &quot\;Times New Roman&quot\;\, Times\, serif\; font-size: 16px\; background-color: rgb(255\, 255\, 255)\; text-align: center\;"><span style="font-family: Arial\, Verdana\, Helvetica\, sans-serif\; font-size: 19px\;">Bring your laptops!!</span></div>\n\n<div align="center" style="color: rgb(51\, 51\, 51)\; font-family: &quot\;Times New Roman&quot\;\, Times\, serif\; font-size: 16px\; background-color: rgb(255\, 255\, 255)\; text-align: center\;"><span style="color: red\; font-family: Arial\, Verdana\, Helvetica\, sans-serif\; font-size: 19px\;">Attendees must have downloaded a trial version of Quickbooks or have their own version on their laptops.</span></div>\n\n<div style="color: rgb(51\, 51\, 51)\; font-family: &quot\;Times New Roman&quot\;\, Times\, serif\; font-size: 16px\; background-color: rgb(255\, 255\, 255)\;">&nbsp\;</div>\n\n<div style="color: rgb(51\, 51\, 51)\; font-family: &quot\;Times New Roman&quot\;\, Times\, serif\; font-size: 16px\; background-color: rgb(255\, 255\, 255)\;"><a data-saferedirecturl="https://www.google.com/url?hl=en&amp\;q=http://r20.rs6.net/tn.jsp?f%3D001OUl8_4D22GsOhrVY8gySrP0u8lQNqmPNcu8IbUjnh2jRVqZrplBefm2wPDvKClhO_Br9Xjmbka4pqkiiWNiunMKJB2HpsSfve_Ww_wFogo0_MP14NlJQUasuRLW5du-6L0-3dhRNkI9yvppk7mdDPTvJG1g4_-zR8U9gKub5ag-oP4WXjX-hqfCVouASQPm4Q8Fz1KPRMDJCD6e5AfLA6Ieh7eVpzc29HvMwvScdFZgwDtYEexD6kA%3D%3D%26c%3DYPjvK8qF2o6mrUsiYwJTD-8ILrAn8nUfZxxuG2FWujREB7R5e7eQ-w%3D%3D%26ch%3DO6tYgmwE8i35KX0G90ixiLrm50qmARnrIti2Vf0S-cxs0uUJEm_Ckw%3D%3D&amp\;source=gmail&amp\;ust=1531500407904000&amp\;usg=AFQjCNEgduSv9KK8I_DUv4cf7AEWmZPaNg" href="http://r20.rs6.net/tn.jsp?f=001OUl8_4D22GsOhrVY8gySrP0u8lQNqmPNcu8IbUjnh2jRVqZrplBefm2wPDvKClhO_Br9Xjmbka4pqkiiWNiunMKJB2HpsSfve_Ww_wFogo0_MP14NlJQUasuRLW5du-6L0-3dhRNkI9yvppk7mdDPTvJG1g4_-zR8U9gKub5ag-oP4WXjX-hqfCVouASQPm4Q8Fz1KPRMDJCD6e5AfLA6Ieh7eVpzc29HvMwvScdFZgwDtYEexD6kA==&amp\;c=YPjvK8qF2o6mrUsiYwJTD-8ILrAn8nUfZxxuG2FWujREB7R5e7eQ-w==&amp\;ch=O6tYgmwE8i35KX0G90ixiLrm50qmARnrIti2Vf0S-cxs0uUJEm_Ckw==" style="color: rgb(91\, 91\, 91)\; font-family: Arial\, Verdana\, Helvetica\, sans-serif\; font-size: 12px\;" target="_blank">http://events.constantcontact.<wbr />com/register/event?llr=fg4jspc<wbr />ab&amp\;oeidk=a07effl3ct595b0f08e</a></div>\n
LOCATION:SCORE Conference Room 1150 South Freeway Fort Worth\, Texas 76104
UID:e.1262.4122
SEQUENCE:3
DTSTAMP:20260422T091050Z
URL:https://business.fwmbcc.org/events/details/quickbooks-for-beginners-4122
END:VEVENT

END:VCALENDAR
