BEGIN:VCALENDAR
VERSION:2.0
PRODID:-//ChamberMaster//Event Calendar 2.0//EN
METHOD:PUBLISH
X-PUBLISHED-TTL:P3D
REFRESH-INTERVAL:P3D
CALSCALE:GREGORIAN
BEGIN:VEVENT
DTSTART:20160122T000000Z
DTEND:20160122T023000Z
X-MICROSOFT-CDO-ALLDAYEVENT:FALSE
SUMMARY:Quickbooks Financing
DESCRIPTION:This class will cover what lenders value\, common mistakes in preparing financial statements and how to discuss these documents with a lender.
X-ALT-DESC;FMTTYPE=text/html:<strong>This class will cover what lenders value\, common mistakes in preparing financial statements and how to discuss these documents with a lender.</strong>
LOCATION:Business Assistance Center at 1150 S. Freeway\, Ft. Worth TX
UID:e.1262.2363
SEQUENCE:3
DTSTAMP:20260422T135234Z
URL:https://business.fwmbcc.org/events/details/quickbooks-financing-01-21-2016-2363
END:VEVENT

END:VCALENDAR
