BEGIN:VCALENDAR
VERSION:2.0
PRODID:-//ChamberMaster//Event Calendar 2.0//EN
METHOD:PUBLISH
X-PUBLISHED-TTL:P3D
REFRESH-INTERVAL:P3D
CALSCALE:GREGORIAN
BEGIN:VEVENT
DTSTART:20160406T153000Z
DTEND:20160406T180000Z
X-MICROSOFT-CDO-ALLDAYEVENT:FALSE
SUMMARY:Puttin on the Pink-Fashion Luncheon
DESCRIPTION:Puttin on the Pink\, Fashion Luncheon\, Proceeds provide mobile health outreach to underserved women in Fort Worth and surrounding communities
X-ALT-DESC;FMTTYPE=text/html:<strong>Puttin on the Pink\, Fashion Luncheon\, Proceeds provide mobile health outreach to underserved women in Fort Worth and surrounding communities</strong>
LOCATION:Fort Worth Convention Center
UID:e.1262.2769
SEQUENCE:3
DTSTAMP:20260422T091908Z
URL:https://business.fwmbcc.org/events/details/puttin-on-the-pink-fashion-luncheon-04-06-2016-2769
END:VEVENT

END:VCALENDAR
