BEGIN:VCALENDAR
VERSION:2.0
PRODID:-//ChamberMaster//Event Calendar 2.0//EN
METHOD:PUBLISH
X-PUBLISHED-TTL:P3D
REFRESH-INTERVAL:P3D
CALSCALE:GREGORIAN
BEGIN:VEVENT
DTSTART:20160401T153000Z
DTEND:20160401T180000Z
X-MICROSOFT-CDO-ALLDAYEVENT:FALSE
SUMMARY:Puttin on the PInk-Fashion Luncheon
DESCRIPTION:Puttin on the Pink\, Fashion Luncheon\, Proceeds provide mobile health outreach to underserved women in Fort Worth and surrounding communities.  Hosted by the Kupferie Health Board of Tx. Health Resources Foundation.  Fashion Presentation by Neiman Marcus
X-ALT-DESC;FMTTYPE=text/html:<strong>Puttin on the Pink\, Fashion Luncheon\, Proceeds provide mobile health outreach to underserved women in Fort Worth and surrounding communities. </strong>&nbsp\;Hosted by the Kupferie Health Board of Tx. Health Resources Foundation. &nbsp\;Fashion Presentation by Neiman Marcus
LOCATION:Fort Worth Convention Center
UID:e.1262.2768
SEQUENCE:3
DTSTAMP:20260422T091908Z
URL:https://business.fwmbcc.org/events/details/puttin-on-the-pink-fashion-luncheon-04-01-2016-2768
END:VEVENT

END:VCALENDAR
