BEGIN:VCALENDAR
VERSION:2.0
PRODID:-//ChamberMaster//Event Calendar 2.0//EN
METHOD:PUBLISH
X-PUBLISHED-TTL:P3D
REFRESH-INTERVAL:P3D
CALSCALE:GREGORIAN
BEGIN:VEVENT
DTSTART:20170520T150000Z
DTEND:20170520T170000Z
X-MICROSOFT-CDO-ALLDAYEVENT:FALSE
SUMMARY:Purpose Workshop
DESCRIPTION:Helping people discover or rediscover their unique gifts and talents.
X-ALT-DESC;FMTTYPE=text/html:Helping people discover or rediscover their unique gifts and talents.<br />\n<br />\n<br />\n<br />\n&nbsp\;
LOCATION:1270 Woodhaven Blvd. Fort Worth\, TX 76112
UID:e.1262.3038
SEQUENCE:3
DTSTAMP:20260421T130644Z
URL:https://business.fwmbcc.org/events/details/purpose-workshop-3038
END:VEVENT

END:VCALENDAR
