BEGIN:VCALENDAR
VERSION:2.0
PRODID:-//ChamberMaster//Event Calendar 2.0//EN
METHOD:PUBLISH
X-PUBLISHED-TTL:P3D
REFRESH-INTERVAL:P3D
CALSCALE:GREGORIAN
BEGIN:VEVENT
DTSTART:20160421T230000Z
DTEND:20160422T020000Z
X-MICROSOFT-CDO-ALLDAYEVENT:FALSE
SUMMARY:Project Goodwill-SAVE THE DATE
DESCRIPTION:Project Goodwill benefiting Goodwill Industries
X-ALT-DESC;FMTTYPE=text/html:<strong>Project Goodwill benefiting Goodwill Industries</strong>
LOCATION:The Worthington Renaissance Fort Worth Hotel 200 Main St.\, Ft. Worth\, TX 76102
UID:e.1262.2782
SEQUENCE:3
DTSTAMP:20260422T091210Z
URL:https://business.fwmbcc.org/events/details/project-goodwill-save-the-date-04-21-2016-2782
END:VEVENT

END:VCALENDAR
