BEGIN:VCALENDAR
VERSION:2.0
PRODID:-//ChamberMaster//Event Calendar 2.0//EN
METHOD:PUBLISH
X-PUBLISHED-TTL:P3D
REFRESH-INTERVAL:P3D
CALSCALE:GREGORIAN
BEGIN:VEVENT
DTSTART:20161017T153000Z
DTEND:20161017T162500Z
X-MICROSOFT-CDO-ALLDAYEVENT:FALSE
SUMMARY:Productivity Hacks
DESCRIPTION:Every 3rd Monday of the month Idea Works FW shares best practices and discuss popular tools and hacks that can help you stay on track\, increase productivity and improve efficiency on small and large tasks.
X-ALT-DESC;FMTTYPE=text/html:<strong>Every 3rd Monday of the month Idea Works FW shares best practices and discuss popular tools and hacks that can help you stay on track\, increase productivity and improve efficiency on small and large tasks.</strong>
LOCATION:600 E. Rosedale\, Fort Worth TX
UID:e.1262.2464
SEQUENCE:3
DTSTAMP:20260421T233401Z
URL:https://business.fwmbcc.org/events/details/productivity-hacks-10-17-2016-2464
END:VEVENT

END:VCALENDAR
