BEGIN:VCALENDAR
VERSION:2.0
PRODID:-//ChamberMaster//Event Calendar 2.0//EN
METHOD:PUBLISH
X-PUBLISHED-TTL:P3D
REFRESH-INTERVAL:P3D
CALSCALE:GREGORIAN
BEGIN:VEVENT
DTSTART:20150913T180000Z
DTEND:20150913T200000Z
X-MICROSOFT-CDO-ALLDAYEVENT:FALSE
SUMMARY:Private School Preview
DESCRIPTION:Hosted at St. Mark's School of Texas\, The Private School Preview offers attending families the opportunity to meet with school reps from over 100 private day and boarding schools from across the United States.
X-ALT-DESC;FMTTYPE=text/html:Hosted at St. Mark&#39\;s School of Texas\, The Private School Preview offers attending families the opportunity to meet with school reps from over 100 private day and boarding schools from across the United States.
LOCATION:St. Mark's School of Texas\, 10600 Preston Rd.\, Dallas TX 75230
UID:e.1262.2251
SEQUENCE:3
DTSTAMP:20260422T073324Z
URL:https://business.fwmbcc.org/events/details/private-school-preview-09-13-2015-2251
END:VEVENT

END:VCALENDAR
