BEGIN:VCALENDAR
VERSION:2.0
PRODID:-//ChamberMaster//Event Calendar 2.0//EN
METHOD:PUBLISH
X-PUBLISHED-TTL:P3D
REFRESH-INTERVAL:P3D
CALSCALE:GREGORIAN
BEGIN:VEVENT
DTSTART:20160105T190000Z
DTEND:20160105T210000Z
X-MICROSOFT-CDO-ALLDAYEVENT:FALSE
SUMMARY:Pre Bid Conference-DFW Airport
DESCRIPTION:Pre Bid Conference for the Terminal B Phase 3 Asbestos Abatement Package
X-ALT-DESC;FMTTYPE=text/html:Pre Bid Conference for the Terminal B Phase 3 Asbestos Abatement Package
LOCATION:DFW Airport Development & Engineering Complex-Trailer C-3\, 3003 South Service Rd.\, DFW Airport TX 75261
UID:e.1262.2316
SEQUENCE:3
DTSTAMP:20260422T135439Z
URL:https://business.fwmbcc.org/events/details/pre-bid-conference-dfw-airport-01-05-2016-2316
END:VEVENT

END:VCALENDAR
