BEGIN:VCALENDAR
VERSION:2.0
PRODID:-//ChamberMaster//Event Calendar 2.0//EN
METHOD:PUBLISH
X-PUBLISHED-TTL:P3D
REFRESH-INTERVAL:P3D
CALSCALE:GREGORIAN
BEGIN:VEVENT
DTSTART:20160514T020000Z
DTEND:20160514T033000Z
X-MICROSOFT-CDO-ALLDAYEVENT:FALSE
SUMMARY:Pink Impact After Party
DESCRIPTION:The "Pink Impact After Party" will be held May 13\, 2016\,  between the hours of 9:00 pm and 10:30 pm.\n\n\n\nThe event will be held on Main Street between 8th and 9th and Houston and Commerce Streets.\n\n \n\nThe event is in conjunction with Pink Impact being held at The Fort Worth Convention Center and Arena .\n\n\n\nGateway Church will assist affected businesses/residences and other affected parties to ensure you have sufficient access to your property during the operational hours of this event and to address any other concerns you may have.\n\n\n\nWe appreciate everyone's support of this event. If you have questions\, you may contact Laura Jean Hoffpauir at 504-252-4500 or lj@solomongroup.com.\n\n\n\nYou may also contact the Outdoor Events Manager at the City of Fort's Office of Outdoor Events at 817-392-7894\, 1201 Houston Street\, Fort Worth\, TX 76102 or via email at cynthia.alexander@fortworthtexas.gov.
X-ALT-DESC;FMTTYPE=text/html:<br />\n<span style="font-size:12px\;">The &ldquo\;Pink Impact After Party&rdquo\; will be held&nbsp\;May 13\, 2016\,&nbsp\; between the hours of&nbsp\;9:00 pm and 10:30 pm.<br />\n<br />\nThe event will be held on Main Street between 8th and 9th and Houston and Commerce Streets.<br />\n&nbsp\;<br />\nThe event is in conjunction with Pink Impact being held at The Fort Worth Convention Center and Arena .<br />\n<br />\nGateway Church will assist affected businesses/residences and other affected parties to ensure&nbsp\;you have sufficient access to your property during the operational hours of this event and to address any&nbsp\;other concerns you may have.<br />\n<br />\nWe appreciate everyone&rsquo\;s support of this event. If you have questions\, you may contact Laura Jean Hoffpauir at&nbsp\;<a href="tel:504-252-4500" style="color:rgb(17\, 85\, 204)\;" target="_blank" value="+15042524500">504-252-4500</a>&nbsp\;or&nbsp\;<a href="mailto:lj@solomongroup.com" style="color:rgb(17\, 85\, 204)\;" target="_blank">lj@<wbr />solomongroup.com</a>.<br />\n<br />\nYou may also contact the Outdoor Events Manager at the City of Fort&rsquo\;s Office of Outdoor Events at&nbsp\;<a href="tel:817-392-7894" style="color:rgb(17\, 85\, 204)\;" target="_blank" value="+18173927894">817-392-7894</a>\, 1201 Houston Street\, Fort Worth\, TX 76102 or via email at&nbsp\;<a href="mailto:cynthia.alexander@fortworthtexas.gov" style="color:rgb(17\, 85\, 204)\;" target="_blank">cynthia.alexander@fortworthtexas.gov</a>.</span>
LOCATION:The event will be held on Main Street between 8th and 9th and Houston and Commerce Streets.
UID:e.1262.2843
SEQUENCE:3
DTSTAMP:20260422T073525Z
URL:https://business.fwmbcc.org/events/details/pink-impact-after-party-05-13-2016-2843
END:VEVENT

END:VCALENDAR
