BEGIN:VCALENDAR
VERSION:2.0
PRODID:-//ChamberMaster//Event Calendar 2.0//EN
METHOD:PUBLISH
X-PUBLISHED-TTL:P3D
REFRESH-INTERVAL:P3D
CALSCALE:GREGORIAN
BEGIN:VEVENT
DTSTART:20180331T230000Z
DTEND:20180401T020000Z
X-MICROSOFT-CDO-ALLDAYEVENT:FALSE
SUMMARY:Phi Beta Sigma Fraternity Incorporated: Brother Calvin Littlejohn Bigger and Better Business Awards
DESCRIPTION:The Brothers of Alpha Theta Sigma Chapter\, Phi Beta Sigma Fraternity Incorporated along with its Nonprofit Affiliate\, Customer Is King Charity Fund are proud to celebrate twenty-five years of recognizing businesses and individuals in the community.  The Silver Anniversary Celebration will reflect on the past and forge ahead with optimism for the future.\n\n \n\nHonorees for this historic celebration are Ms. Kecia Carson\, A touch of Magic Salon\; Dr. Patricia Harris\, Family Medicine\; Mr. Richard Stoglin\, Naval War College and Command Chaplain NATO\; Mr. Johnny Cook Muhammad\, Children and Family Institute Fatherhood Program Manager\, "Pathway to Parenting"\; and Brother John McClendon\, Sigma Man of the Year.  Guest speaker for the banquet will be Dr. Courtney Gober\, Rockwall High School Principal and Region 10 Principal of the year.\n\n\n\nDuring the past twenty-five years more than 100 individuals and businesses have been recognized for their success and community involvement.  It is the desire of the Brothers to continue the vision of Brother Calvin Littlejohn that became a reality twenty-five years ago.  Where there is no vision\, the people perish.  \n\n \n\nAs we move the CAUSE of Phi Beta Sigma Fraternity Incorporated forward\, the Fraternity's motto will continue to be our guiding principle\, "Culture for Service and Service for Humanity".
X-ALT-DESC;FMTTYPE=text/html:<span style="font-size:12.0pt\;">&nbsp\;The Brothers of Alpha Theta Sigma Chapter\, Phi Beta Sigma Fraternity Incorporated along with its Nonprofit Affiliate\, Customer Is King Charity Fund are proud to celebrate twenty-five years of recognizing businesses and individuals in the community.&nbsp\; The Silver Anniversary Celebration will reflect on the past and forge ahead with optimism for the future.</span><br />\n&nbsp\;<br />\n<span style="font-size:12.0pt\;">Honorees for this historic celebration are Ms. Kecia Carson\, A touch of Magic Salon\; Dr. Patricia Harris\, Family Medicine\; Mr. Richard Stoglin\, Naval War College and Command Chaplain NATO\; Mr. Johnny Cook Muhammad\, Children and Family Institute Fatherhood Program Manager\, &ldquo\;Pathway to Parenting&rdquo\;\; and Brother John McClendon\, Sigma Man of the Year.&nbsp\; Guest speaker for the banquet will be Dr. Courtney Gober\, Rockwall High School Principal and Region 10 Principal of the year.</span><br />\n<br />\n<span style="font-size:12.0pt\;">During the past twenty-five years more than 100 individuals and businesses have been recognized for their success and community involvement.&nbsp\; It is the desire of the Brothers to continue the vision of Brother Calvin Littlejohn that became a reality twenty-five years ago.&nbsp\; Where there is no vision\, the people perish.&nbsp\; </span><br />\n&nbsp\;<br />\n<span style="font-size:12.0pt\;">As we move the CAUSE of Phi Beta Sigma Fraternity Incorporated forward\, the Fraternity&rsquo\;s motto will continue to be our guiding principle\, &ldquo\;</span><span style="font-family:brush script mt\;"><span style="font-size:12.0pt\;">Culture for Service and Service for Humanity</span></span><span style="font-size:12.0pt\;">&rdquo\;.</span><br />\n&nbsp\;
LOCATION:Hilton Garden Inn 912 Northton Street Fort Worth\, TX 76104
UID:e.1262.3088
SEQUENCE:3
DTSTAMP:20260422T023537Z
URL:https://business.fwmbcc.org/events/details/phi-beta-sigma-fraternity-incorporated-brother-calvin-littlejohn-bigger-and-better-business-awards-3088
END:VEVENT

END:VCALENDAR
