BEGIN:VCALENDAR
VERSION:2.0
PRODID:-//ChamberMaster//Event Calendar 2.0//EN
METHOD:PUBLISH
X-PUBLISHED-TTL:P3D
REFRESH-INTERVAL:P3D
CALSCALE:GREGORIAN
BEGIN:VEVENT
DTSTART:20160408T163000Z
DTEND:20160408T180000Z
X-MICROSOFT-CDO-ALLDAYEVENT:FALSE
SUMMARY:Peoplespring/PeopleFund Ladies Lunch and Learn
DESCRIPTION:PeopleSpring Fort Worth will be an interactive lunch and learn opportunity to meet\, mingle and marry business ideas with fellow women entrepreneurs.  With fun\, food\, and the opportunity to learn from women leaders in our community\, you will walk away with contacts and a new confidence.\n\nSponsored by Frost Bank
X-ALT-DESC;FMTTYPE=text/html:<strong>PeopleSpring Fort Worth will be an interactive lunch and learn opportunity to meet\, mingle and marry business ideas with fellow women entrepreneurs. &nbsp\;With fun\, food\, and the opportunity to learn from women leaders in our community\, you will walk away with contacts and a new confidence.<br />\nSponsored by Frost Bank</strong>
LOCATION:Fort Worth Business Assistance Center 1150 S. Freeway Fort Worth TX
UID:e.1262.2820
SEQUENCE:3
DTSTAMP:20260422T091753Z
URL:https://business.fwmbcc.org/events/details/peoplespring-peoplefund-ladies-lunch-and-learn-04-08-2016-2820
END:VEVENT

END:VCALENDAR
