BEGIN:VCALENDAR
VERSION:2.0
PRODID:-//ChamberMaster//Event Calendar 2.0//EN
METHOD:PUBLISH
X-PUBLISHED-TTL:P3D
REFRESH-INTERVAL:P3D
CALSCALE:GREGORIAN
BEGIN:VEVENT
DTSTART:20160408T163000Z
DTEND:20160408T180000Z
X-MICROSOFT-CDO-ALLDAYEVENT:FALSE
SUMMARY:PeopleSpring - Free Women's Networking & Leadership Luncheon
DESCRIPTION:Starting a small business is hard\, especially as a woman. PeopleFund is here to help! PeopleSpring\, a one-day networking\, leadership\, and women?s luncheon event\, is designed to help you meet fellow female entrepreneurs. Together we can forge new relationships\, learn about financing opportunities\, and learn from successful women small business owners in our community. Lunch is included and registration is FREE - sign up today!
X-ALT-DESC;FMTTYPE=text/html:Starting a small business is hard\, especially as a woman. PeopleFund is here to help! PeopleSpring\, a one-day networking\, leadership\, and women?s luncheon event\, is designed to help you meet fellow female entrepreneurs. Together we can forge new relationships\, learn about financing opportunities\, and learn from successful women small business owners in our community. Lunch is included and registration is FREE - sign up today!
LOCATION:Fort Worth Business Assistance Center 1150 South Freeway Ft. Worth\, TX
UID:e.1262.2824
SEQUENCE:3
DTSTAMP:20260422T091753Z
URL:https://business.fwmbcc.org/events/details/peoplespring-free-women-s-networking-leadership-luncheon-04-08-2016-2824
END:VEVENT

END:VCALENDAR
