BEGIN:VCALENDAR
VERSION:2.0
PRODID:-//ChamberMaster//Event Calendar 2.0//EN
METHOD:PUBLISH
X-PUBLISHED-TTL:P3D
REFRESH-INTERVAL:P3D
CALSCALE:GREGORIAN
BEGIN:VEVENT
DTSTART:20150818T133000Z
DTEND:20150818T193000Z
X-MICROSOFT-CDO-ALLDAYEVENT:FALSE
SUMMARY:Partnerships at Work
DESCRIPTION:Partnerships at Work!\n\nThe Fort Worth Hispanic Chamber of Commerce and the Fort Worth Metropolitan Black Chamber of Commerce jointly offer a FREE Business Planning & Management Seminar for minority and women-owned businesses interested in the growth of their existing business.
X-ALT-DESC;FMTTYPE=text/html:Partnerships at Work!<br />\nThe Fort Worth Hispanic Chamber of Commerce and the Fort Worth Metropolitan Black Chamber of Commerce jointly offer a FREE Business Planning &amp\; Management Seminar for minority and women-owned businesses interested in the growth of their existing business.
LOCATION:Fort Worth Botanical Garden Conference Center\, Rose Room 3220 Botanic Garden Blvd. Fort Worth\, Texas 76107
UID:e.1262.2209
SEQUENCE:3
DTSTAMP:20260422T054732Z
URL:https://business.fwmbcc.org/events/details/partnerships-at-work-08-18-2015-2209
END:VEVENT

END:VCALENDAR
