BEGIN:VCALENDAR
VERSION:2.0
PRODID:-//ChamberMaster//Event Calendar 2.0//EN
METHOD:PUBLISH
X-PUBLISHED-TTL:P3D
REFRESH-INTERVAL:P3D
CALSCALE:GREGORIAN
BEGIN:VEVENT
DTSTART:20151016T223000Z
DTEND:20151017T040000Z
X-MICROSOFT-CDO-ALLDAYEVENT:FALSE
SUMMARY:Panther Club's Cowtown Chili Cook Off and Casino Benefiting Boys & Girls Clubs
DESCRIPTION:Panther Club's 3rd Annual Chili Cook Off and casino benefiting Boys & Girls Club of Greater Fort Worth.
X-ALT-DESC;FMTTYPE=text/html:Panther Club&#39\;s 3rd Annual Chili Cook Off and casino benefiting Boys &amp\; Girls Club of Greater Fort Worth.
LOCATION:River Ranch in the Stockyards\, 500 NE 23rd St.\, Fort Worth TX
UID:e.1262.2270
SEQUENCE:3
DTSTAMP:20260422T092149Z
URL:https://business.fwmbcc.org/events/details/panther-club-s-cowtown-chili-cook-off-and-casino-benefiting-boys-girls-clubs-10-16-2015-2270
END:VEVENT

END:VCALENDAR
