BEGIN:VCALENDAR
VERSION:2.0
PRODID:-//ChamberMaster//Event Calendar 2.0//EN
METHOD:PUBLISH
X-PUBLISHED-TTL:P3D
REFRESH-INTERVAL:P3D
CALSCALE:GREGORIAN
BEGIN:VEVENT
DTSTART:20160504T140000Z
DTEND:20160504T210000Z
X-MICROSOFT-CDO-ALLDAYEVENT:FALSE
SUMMARY:Office Depot Hiring Event
DESCRIPTION:Office Depot Hiring Event\n\n\n\nOffice Depot is a Fortune 250 Company that's committed to career development with comprehensive benefits' package.\n\n\n\n\n\n\n\nOpportunities Available:\n\n\n\nOperations Manager\n\nCustomer Service Manager\n\nPrint Services Supervisor\n\nSr. Sales Consultant - Technology\n\nMerchandising Stock Associate \n\nSales Consultant\n\n\n\nTo apply go to jobs.officedepot.com/store/003249 or visit jobs.officedepot.com
X-ALT-DESC;FMTTYPE=text/html:<br />\n<br />\n<strong>Office Depot Hiring Event</strong><br />\n<br />\nOffice Depot is a Fortune 250 Company that&#39\;s committed to career development with comprehensive benefits&#39\; package.<br />\n<br />\n<br />\n<br />\nOpportunities Available:<br />\n<br />\nOperations Manager<br />\nCustomer Service Manager<br />\nPrint Services Supervisor<br />\nSr. Sales Consultant - Technology<br />\nMerchandising Stock Associate&nbsp\;<br />\nSales Consultant<br />\n<br />\nTo apply go to jobs.officedepot.com/store/003249 or visit jobs.officedepot.com<br />\n<br />\n<br />\n&nbsp\;
LOCATION:Store Location: 1460 Eastchase Parkway Fort Worth\, TX 76120 Phone: 817.462.5376 Store Manager: Shannon Westbrook
UID:e.1262.2858
SEQUENCE:3
DTSTAMP:20260422T073519Z
URL:https://business.fwmbcc.org/events/details/office-depot-hiring-event-05-04-2016-2858
END:VEVENT

END:VCALENDAR
