BEGIN:VCALENDAR
VERSION:2.0
PRODID:-//ChamberMaster//Event Calendar 2.0//EN
METHOD:PUBLISH
X-PUBLISHED-TTL:P3D
REFRESH-INTERVAL:P3D
CALSCALE:GREGORIAN
BEGIN:VEVENT
DTSTART:20161104T223000Z
DTEND:20161105T210000Z
X-MICROSOFT-CDO-ALLDAYEVENT:FALSE
SUMMARY:OCTANE Leadership Development Conference-A Focus on Healthy Leading
DESCRIPTION:Octane is a bi-annual conference focused on providing a context for leaders to refuel by providing learning opportunities and PRACTICAL tools that ignite focused purpose\, high performance\, and effective practices. This conference is a component of EIGHT Leadership Development Group. Octane specializes in providing innovative\, cutting-edge information that is practice-oriented to help you lead with a higher level of effectiveness. Octane is particularly helpful to people who have chosen to lead in any setting\, formal or informal. Our team of speakers is professional and from diverse sectors including public and private sectors and non-profits. Octane provides a tremendous value to you as a leader by providing 8-10 hours of leadership development content with emphasis on execution. This year\, the focus is on health: healthy leadership practice\, healthy financial practices\, and healthy physical bodies. In addition\, your registration includes snacks\, breakfast and lunch! Bring the whole team!\n\nPre-conference sessions (Friday only) are included in the registration and taught by Arnita Willis Taylor\, your conference host.
X-ALT-DESC;FMTTYPE=text/html:<p style="margin: 0px\; padding: 0px 0px 8px\; line-height: normal\; color: rgb(102\, 102\, 102)\; font-family: &quot\;Helvetica Neue&quot\;\, Helvetica\, Arial\, sans-serif\; font-size: 13.2px\; letter-spacing: 0.5px\;"><span style="color: rgb(51\, 51\, 51)\; font-family: &quot\;times new roman&quot\;\, times\; font-size: large\;">Octane is a bi-annual conference focused on providing a context for leaders to refuel by providing learning opportunities and PRACTICAL tools that ignite focused purpose\, high performance\, and effective practices. This conference is a component of EIGHT Leadership Development Group. Octane specializes in providing innovative\, cutting-edge information that is practice-oriented to help you lead with a higher level of effectiveness. Octane is particularly helpful to people who have chosen to lead in any setting\, formal or informal. Our team of speakers is professional and from diverse sectors including public and private sectors and non-profits. Octane provides a tremendous value to you as a leader by providing 8-10 hours of leadership development content with emphasis on execution. This year\, the focus is on health: healthy leadership practice\, healthy financial practices\, and healthy physical bodies. In addition\, your registration includes snacks\, breakfast and lunch! Bring the whole team!</span></p>\n\n<p style="margin: 0px\; padding: 0px 0px 8px\; line-height: normal\; color: rgb(102\, 102\, 102)\; font-family: &quot\;Helvetica Neue&quot\;\, Helvetica\, Arial\, sans-serif\; font-size: 13.2px\; letter-spacing: 0.5px\;"><span style="color: rgb(51\, 51\, 51)\; font-family: &quot\;times new roman&quot\;\, times\; font-size: large\;">Pre-conference sessions (Friday only) are included in the registration and taught by Arnita Willis Taylor\, your conference host.</span></p>\n
LOCATION:Holiday Inn Express and Suites 820 Thousand Oaks Drive Hurst\, TX 76054
UID:e.1262.2885
SEQUENCE:3
DTSTAMP:20260421T221436Z
URL:https://business.fwmbcc.org/events/details/octane-leadership-development-conference-a-focus-on-healthy-leading-2885
END:VEVENT

END:VCALENDAR
