BEGIN:VCALENDAR
VERSION:2.0
PRODID:-//ChamberMaster//Event Calendar 2.0//EN
METHOD:PUBLISH
X-PUBLISHED-TTL:P3D
REFRESH-INTERVAL:P3D
CALSCALE:GREGORIAN
BEGIN:VEVENT
DTSTART:20150917T110000Z
DTEND:20150917T170000Z
X-MICROSOFT-CDO-ALLDAYEVENT:FALSE
SUMMARY:North Texas Giving Day
DESCRIPTION:On September 17\, 2015 donations of $25.00 or more can be made 6am to midnight to more than 2\,100 certified nonprofits listed on www.NorthTexasGivingDay.org. Those donations will be amplified by more than $2 million dollars in bonus funds and prizes.
X-ALT-DESC;FMTTYPE=text/html:On September 17\, 2015 donations of $25.00 or more can be made 6am to midnight to more than 2\,100 certified nonprofits listed on www.NorthTexasGivingDay.org. Those donations will be amplified by more than $2 million dollars in bonus funds and prizes.
LOCATION:ONLINE via NorthTexasGivingDay.org website. Also\, Communites Foundation of Tx is hosting celebrations in Arlington\, Fort Worth\, Dallas\, Denton and Mckinney
UID:e.1262.2253
SEQUENCE:3
DTSTAMP:20260422T073519Z
URL:https://business.fwmbcc.org/events/details/north-texas-giving-day-09-17-2015-2253
END:VEVENT

END:VCALENDAR
