BEGIN:VCALENDAR
VERSION:2.0
PRODID:-//ChamberMaster//Event Calendar 2.0//EN
METHOD:PUBLISH
X-PUBLISHED-TTL:P3D
REFRESH-INTERVAL:P3D
CALSCALE:GREGORIAN
BEGIN:VEVENT
DTSTART:20170520T140000Z
DTEND:20170520T210000Z
X-MICROSOFT-CDO-ALLDAYEVENT:FALSE
SUMMARY:North Central Texas Small Business Conference
DESCRIPTION:An exciting day of presentations\, workshops\, networking\, matchmaking\, and business development.
X-ALT-DESC;FMTTYPE=text/html:An exciting day of presentations\, workshops\, networking\, matchmaking\, and business development.
LOCATION:Dallas City Hall 1500 Marilla St.\, L1FN- Auditorium Dallas\, TX
UID:e.1262.3042
SEQUENCE:3
DTSTAMP:20260421T143535Z
URL:https://business.fwmbcc.org/events/details/north-central-texas-small-business-conference-3042
END:VEVENT

END:VCALENDAR
