BEGIN:VCALENDAR
VERSION:2.0
PRODID:-//ChamberMaster//Event Calendar 2.0//EN
METHOD:PUBLISH
X-PUBLISHED-TTL:P3D
REFRESH-INTERVAL:P3D
CALSCALE:GREGORIAN
BEGIN:VEVENT
DTSTART:20210721T000000Z
DTEND:20210721T020000Z
X-MICROSOFT-CDO-ALLDAYEVENT:FALSE
SUMMARY:NEXT LEVEL ENTREPRENEUR SCHOOL
DESCRIPTION:Join us in our two-hour\, interactive workshop to learn marketing skills/digital marketing\, accounting/ bookkeeping\, income (profit & loss statement)\, budgeting\, bids & quotes\, pricing\, cost of goods sold\, organization: charts\, LLC\, corporate partnership\, teaming agreements\, business vs hustle\, insurance requirements\, and more. \n\n \n\nClass meets every 3rd Tuesday of each month.  \n\n \n\n1st class meets on April 20\, 2021.\n\n \n\nFacebook Event Page: \n\nhttps://fb.me/e/473aKYvPY\n\n \n\nEventbrite Registration: \n\nhttps://www.eventbrite.com/e/next-level-entrepreneur-school-tickets-148907049995
X-ALT-DESC;FMTTYPE=text/html:<div dir="auto" style="color: rgb(34\, 34\, 34)\; font-family: Arial\, Helvetica\, sans-serif\; font-size: small\; background-color: rgb(255\, 255\, 255)\;">Join us in our two-hour\, interactive workshop to learn marketing skills/digital marketing\, accounting/ bookkeeping\, income (profit &amp\; loss&nbsp\;statement)\, budgeting\, bids &amp\; quotes\, pricing\, cost of goods sold\, organization: charts\, LLC\, corporate partnership\, teaming agreements\, business vs hustle\, insurance requirements\, and more.&nbsp\;</div>\n\n<div dir="auto" style="color: rgb(34\, 34\, 34)\; font-family: Arial\, Helvetica\, sans-serif\; font-size: small\; background-color: rgb(255\, 255\, 255)\;">&nbsp\;</div>\n\n<div dir="auto" style="color: rgb(34\, 34\, 34)\; font-family: Arial\, Helvetica\, sans-serif\; font-size: small\; background-color: rgb(255\, 255\, 255)\;">Class meets every 3rd Tuesday of each month. &nbsp\;</div>\n\n<div dir="auto" style="color: rgb(34\, 34\, 34)\; font-family: Arial\, Helvetica\, sans-serif\; font-size: small\; background-color: rgb(255\, 255\, 255)\;">&nbsp\;</div>\n\n<div dir="auto" style="color: rgb(34\, 34\, 34)\; font-family: Arial\, Helvetica\, sans-serif\; font-size: small\; background-color: rgb(255\, 255\, 255)\;">1st class meets on April 20\, 2021.</div>\n\n<div dir="auto" style="color: rgb(34\, 34\, 34)\; font-family: Arial\, Helvetica\, sans-serif\; font-size: small\; background-color: rgb(255\, 255\, 255)\;">&nbsp\;</div>\n\n<div dir="auto" style="color: rgb(34\, 34\, 34)\; font-family: Arial\, Helvetica\, sans-serif\; font-size: small\; background-color: rgb(255\, 255\, 255)\;"><b>Facebook Event Page:&nbsp\;</b>\n\n<div><a data-saferedirecturl="https://www.google.com/url?q=https://fb.me/e/473aKYvPY&amp\;source=gmail&amp\;ust=1617897843985000&amp\;usg=AFQjCNFUYfJ93covQ7sREAyME80qh53t5Q" href="https://fb.me/e/473aKYvPY" style="color: rgb(17\, 85\, 204)\;" target="_blank">https://fb.me/e/473aKYvPY</a></div>\n\n<div dir="auto">&nbsp\;</div>\n\n<div dir="auto"><b>Eventbrite Registration:</b>&nbsp\;\n\n<div><a data-saferedirecturl="https://www.google.com/url?q=https://www.eventbrite.com/e/next-level-entrepreneur-school-tickets-148907049995&amp\;source=gmail&amp\;ust=1617897843985000&amp\;usg=AFQjCNEGrvX49J2NozM6RsrpFGonRCO7Qg" href="https://www.eventbrite.com/e/next-level-entrepreneur-school-tickets-148907049995" style="color: rgb(17\, 85\, 204)\;" target="_blank">https://www.eventbrite.com/e/<wbr />next-level-entrepreneur-<wbr />school-tickets-148907049995</a></div>\n</div>\n</div>\n
LOCATION:This is a virtual event.
UID:e.1262.4868
SEQUENCE:3
DTSTAMP:20260424T063820Z
URL:https://business.fwmbcc.org/events/details/next-level-entrepreneur-school-07-20-2021-4868
END:VEVENT

END:VCALENDAR
