BEGIN:VCALENDAR
VERSION:2.0
PRODID:-//ChamberMaster//Event Calendar 2.0//EN
METHOD:PUBLISH
X-PUBLISHED-TTL:P3D
REFRESH-INTERVAL:P3D
CALSCALE:GREGORIAN
BEGIN:VEVENT
DTSTART:20160324T170000Z
DTEND:20160324T180000Z
X-MICROSOFT-CDO-ALLDAYEVENT:FALSE
SUMMARY:Next 2 The Stage presents The Speakers Luncheon
DESCRIPTION:Speakers Luncheon welcomes the Fort Worth Opera!  There will be an afternoon performance and the Opera is bringing discount tickets for future shows.
X-ALT-DESC;FMTTYPE=text/html:Speakers Luncheon welcomes the Fort Worth Opera! &nbsp\;There will be an afternoon performance and the Opera is bringing discount tickets for future shows. &nbsp\;
LOCATION:Next2 The Stage PEC 4712 Granbury Rd Ft. Worth Tx
UID:e.1262.2807
SEQUENCE:3
DTSTAMP:20260422T104731Z
URL:https://business.fwmbcc.org/events/details/next-2-the-stage-presents-the-speakers-luncheon-03-24-2016-2807
END:VEVENT

END:VCALENDAR
