BEGIN:VCALENDAR
VERSION:2.0
PRODID:-//ChamberMaster//Event Calendar 2.0//EN
METHOD:PUBLISH
X-PUBLISHED-TTL:P3D
REFRESH-INTERVAL:P3D
CALSCALE:GREGORIAN
BEGIN:VEVENT
DTSTART:20151010T123000Z
DTEND:20151010T170000Z
X-MICROSOFT-CDO-ALLDAYEVENT:FALSE
SUMMARY:NE Tarrant Walk to End Alzheimer's
DESCRIPTION:Walk to End Alzheimer's- NE Tarrant County at Lake Grapevine
X-ALT-DESC;FMTTYPE=text/html:Walk to End Alzheimer's- NE Tarrant County at Lake Grapevine
LOCATION:Meadowmere Park\, 3000 Meadowmere Lane\, Grapevine TX 76051
UID:e.1262.2262
SEQUENCE:3
DTSTAMP:20260422T104111Z
URL:https://business.fwmbcc.org/events/details/ne-tarrant-walk-to-end-alzheimer-s-10-10-2015-2262
END:VEVENT

END:VCALENDAR
