BEGIN:VCALENDAR
VERSION:2.0
PRODID:-//ChamberMaster//Event Calendar 2.0//EN
METHOD:PUBLISH
X-PUBLISHED-TTL:P3D
REFRESH-INTERVAL:P3D
CALSCALE:GREGORIAN
BEGIN:VEVENT
DTSTART:20151217T233000Z
DTEND:20151218T020000Z
X-MICROSOFT-CDO-ALLDAYEVENT:FALSE
SUMMARY:MWBE Vendor Workshop
DESCRIPTION:MWBE Vendor Workshop- How to Do Business with the City of Irving: Bidding Construction Projects
X-ALT-DESC;FMTTYPE=text/html:MWBE Vendor Workshop- How to Do Business with the City of Irving: Bidding Construction Projects
LOCATION:Irving City Hall\, City Council Chambers\, 825 W. Irving Blvd.\, Irving TX
UID:e.1262.2314
SEQUENCE:3
DTSTAMP:20260422T121641Z
URL:https://business.fwmbcc.org/events/details/mwbe-vendor-workshop-12-17-2015-2314
END:VEVENT

END:VCALENDAR
