BEGIN:VCALENDAR
VERSION:2.0
PRODID:-//ChamberMaster//Event Calendar 2.0//EN
METHOD:PUBLISH
X-PUBLISHED-TTL:P3D
REFRESH-INTERVAL:P3D
CALSCALE:GREGORIAN
BEGIN:VEVENT
DTSTART:20160312T220000Z
DTEND:20160313T000000Z
X-MICROSOFT-CDO-ALLDAYEVENT:FALSE
SUMMARY:Movie Screening-Carter High
DESCRIPTION:Movie Screening of Carter High.  This critically acclaimed film is based on the true story of a High School Football powerhouse in Dallas\, Texas.  The film stars Charles S. Dutton\, Viveca A. Fox\, Pooch Hall and David Banner.
X-ALT-DESC;FMTTYPE=text/html:<strong>Movie Screening of Carter High. &nbsp\;This critically acclaimed film is based on the true story of a High School Football powerhouse in Dallas\, Texas. &nbsp\;The film stars Charles S. Dutton\, Viveca&nbsp\;A. Fox\, Pooch Hall and David Banner.</strong>
LOCATION:Forest Hills Civic Center 6901 Wichita Street Forest Hills\, TX
UID:e.1262.2552
SEQUENCE:3
DTSTAMP:20260422T104600Z
URL:https://business.fwmbcc.org/events/details/movie-screening-carter-high-03-12-2016-2552
END:VEVENT

END:VCALENDAR
