BEGIN:VCALENDAR
VERSION:2.0
PRODID:-//ChamberMaster//Event Calendar 2.0//EN
METHOD:PUBLISH
X-PUBLISHED-TTL:P3D
REFRESH-INTERVAL:P3D
CALSCALE:GREGORIAN
BEGIN:VEVENT
DTSTART:20160409T150000Z
DTEND:20160409T230000Z
X-MICROSOFT-CDO-ALLDAYEVENT:FALSE
SUMMARY:Movie Audition at the Forest Hill Civic & Convention Center
DESCRIPTION:Upcoming Film Project that will be filmed in the DFW Metroplex is seeking actors!  Movie Audition for ages 16 - 21 years old (male and females)\n\nPlease bring a resume and head shot photo
X-ALT-DESC;FMTTYPE=text/html:<strong>Upcoming Film Project that will be filmed in the DFW Metroplex is seeking actors! &nbsp\;Movie Audition for ages 16 - 21 years old (male and females)<br />\nPlease bring a resume and head shot photo</strong>
LOCATION:Forest Hill Civic and Convention Center 6901 Forest Hill Dr. Forest Hill TX
UID:e.1262.2825
SEQUENCE:3
DTSTAMP:20260422T105019Z
URL:https://business.fwmbcc.org/events/details/movie-audition-at-the-forest-hill-civic-convention-center-04-09-2016-2825
END:VEVENT

END:VCALENDAR
