BEGIN:VCALENDAR
VERSION:2.0
PRODID:-//ChamberMaster//Event Calendar 2.0//EN
METHOD:PUBLISH
X-PUBLISHED-TTL:P3D
REFRESH-INTERVAL:P3D
CALSCALE:GREGORIAN
BEGIN:VEVENT
DTSTART:20160507T150000Z
DTEND:20160507T210000Z
X-MICROSOFT-CDO-ALLDAYEVENT:FALSE
SUMMARY:Mother's Day Craft Fair
DESCRIPTION:East Saint Paul Baptist Church\, Mother's Day Craft Fair\, church annex building at 10 a.m. to 4 p.m. We will have plenty of food\, and a variety of unique items for Mother's Day gifts to select from\, so please come out and enjoy yourself. \n\n\n\n5300 Oak Grove Rd. West\n\nFort Worth\, TX 76134\n\nL.S. Pastor.\n\n\n\nIf you have any questions\, please call:\n\nJerrie L. Cotton 817.658.1079
X-ALT-DESC;FMTTYPE=text/html:East Saint Paul Baptist Church\, Mother&#39\;s Day Craft Fair\, church annex building at 10 a.m. to 4 p.m. We will have plenty of food\, and a variety of unique items for Mother&#39\;s Day gifts to select from\, so please come out and enjoy yourself.&nbsp\;<br />\n<br />\n5300 Oak Grove Rd. West<br />\nFort Worth\, TX 76134<br />\nL.S. Pastor.<br />\n<br />\nIf you have any questions\, please call:<br />\nJerrie L. Cotton&nbsp\;817.658.1079
LOCATION:Paul Baptist Church 5300 Oak Grove Rd. West Fort Worth\, TX 76134
UID:e.1262.2850
SEQUENCE:3
DTSTAMP:20260422T073535Z
URL:https://business.fwmbcc.org/events/details/mother-s-day-craft-fair-05-07-2016-2850
END:VEVENT

END:VCALENDAR
