BEGIN:VCALENDAR
VERSION:2.0
PRODID:-//ChamberMaster//Event Calendar 2.0//EN
METHOD:PUBLISH
X-PUBLISHED-TTL:P3D
REFRESH-INTERVAL:P3D
CALSCALE:GREGORIAN
BEGIN:VEVENT
DTSTART:20170422T150000Z
DTEND:20170422T220000Z
X-MICROSOFT-CDO-ALLDAYEVENT:FALSE
SUMMARY:Modern Art Museum of Fort Worth 125th Anniversary Charter Day
DESCRIPTION:The Modern Art Museum of Fort Worth is the oldest art museum in Texas and one of the oldest museums in the western United States. The Modern was officially chartered on April 25\, 1892\, as the Fort Worth Public Library and Art Gallery\, but the name and mission have evolved over the years. The 25 women who founded the library and art gallery sought to bring a different sort of culture to the historically cattle-focused city.\n\n \n\nTo celebrate charter day\, the Museum is offering free admission to the galleries\, complimentary sketchbooks for children\, and a docent-led public tour at 2 pm. Approaching Storm\, 1875\, by George Inness\, the first artwork purchased for the museum's permanent collection will be on view through the end of the year in the Grand Lobby in honor of this significant anniversary.
X-ALT-DESC;FMTTYPE=text/html:<span style="color:black\;"><span style="font-family:calibri\,sans-serif\;"><span style="font-size:11pt\;">The Modern Art Museum of Fort Worth is the oldest art museum in Texas and one of the oldest museums in the western United States. The Modern was officially chartered on April 25\, 1892\, as the Fort Worth Public Library and Art Gallery\, but the name and mission have evolved over the years. The 25 women who founded the library and art gallery sought to bring a different sort of culture to the historically cattle-focused city.</span></span></span><br />\n&nbsp\;<br />\n<span style="color:black\;"><span style="font-family:calibri\,sans-serif\;"><span style="font-size:11pt\;">To celebrate charter day\, the Museum is offering free admission to the galleries\, complimentary sketchbooks for children\, and a docent-led public tour at&nbsp\;<span data-term="goog_1549797655" style="border-bottom:1px dashed rgb(204\, 204\, 204)\;position:relative\;top:-2px\;z-index:0\;" tabindex="0"><span style="position:relative\;top:2px\;z-index:-1\;">2 pm</span></span>.&nbsp\;<em>Approaching Storm</em>\, 1875\, by George Inness\, the first artwork purchased for the museum&#39\;s permanent collection will be on view through the end of the year in the Grand Lobby in honor of this significant anniversary.</span></span></span>
LOCATION:Modern Art Museum of Fort Worth 3200 Darnell Street Fort Worth\, Texas 76107
UID:e.1262.3034
SEQUENCE:3
DTSTAMP:20260421T143749Z
URL:https://business.fwmbcc.org/events/details/modern-art-museum-of-fort-worth-125th-anniversary-charter-day-3034
END:VEVENT

END:VCALENDAR
