BEGIN:VCALENDAR
VERSION:2.0
PRODID:-//ChamberMaster//Event Calendar 2.0//EN
METHOD:PUBLISH
X-PUBLISHED-TTL:P3D
REFRESH-INTERVAL:P3D
CALSCALE:GREGORIAN
BEGIN:VEVENT
DTSTART:20170107T000000Z
DTEND:20170107T050000Z
X-MICROSOFT-CDO-ALLDAYEVENT:FALSE
SUMMARY:Modern Art Museum First Friday: Chamber Edition
DESCRIPTION:The Modern is hosting the Fort Worth Metropolitan Black Chamber of Commerce (FWMBCC) & BRIDGE for the January 2017 edition of First Friday. During First Friday\, January 6th 2017\, our Chamber\, BRIDGE and The Modern are teaming up to bring you music and cocktails in the museum's Grand Lobby from 6pm to 11pm. Bring your friends out to enjoy diverse music\, unique cocktail selections and a 20-minute docent-led tour of the galleries including the KAWS and Lorna Simpson exhibitions.
X-ALT-DESC;FMTTYPE=text/html:The Modern is hosting the Fort Worth Metropolitan Black Chamber of Commerce (FWMBCC) &amp\; BRIDGE for the January 2017 edition of <em><strong>First Friday</strong></em>. During <strong><em>First Friday</em></strong>\, January 6th 2017\, our Chamber\, BRIDGE and The Modern are teaming up to bring you music and cocktails in the museum&#39\;s Grand Lobby from 6pm to 11pm. Bring your friends out to enjoy diverse music\, unique cocktail selections and&nbsp\;a 20-minute docent-led tour of the galleries including the KAWS and Lorna Simpson exhibitions.&nbsp\;
LOCATION:Modern Art Museum of Fort Worth 3200 Donnell Street Fort Worth\, TX 76107
UID:e.1262.2897
SEQUENCE:3
DTSTAMP:20260421T190313Z
URL:https://business.fwmbcc.org/events/details/modern-art-museum-first-friday-chamber-edition-2897
END:VEVENT

END:VCALENDAR
