BEGIN:VCALENDAR
VERSION:2.0
PRODID:-//ChamberMaster//Event Calendar 2.0//EN
METHOD:PUBLISH
X-PUBLISHED-TTL:P3D
REFRESH-INTERVAL:P3D
CALSCALE:GREGORIAN
BEGIN:VEVENT
DTSTART:20180418T170000Z
DTEND:20180418T170000Z
X-MICROSOFT-CDO-ALLDAYEVENT:FALSE
SUMMARY:MLCC with TRVA & TRWD
DESCRIPTION:The April 18th Chamber Day at MLCC will consist of a presentation by JD Granger\, Executive Director of the Trinity River Vision Authority (TRVA). JD will be giving an overview of the TRVA project including Panther Island and Gateway Park.\n\n\n\nHe will also speak on the timeline to completion and the work being done by the fair contracting committee. JD will give minority participation numbers and speak on the dollars awarded to minority firms.\n\n\n\nLastly\, JD will inform attendees about the coming Tarrant Regional Water District (TRWD) bond election\, including why the bond is needed and where the money is coming from. \n\n\n\nPlease come out to hear about the status of this project\, the contract opportunities with the TRVA project and the bond election.
X-ALT-DESC;FMTTYPE=text/html:The April 18th&nbsp\;Chamber Day at MLCC will consist of a presentation by JD Granger\, Executive Director of the Trinity River Vision Authority (TRVA). JD will be giving an <span style="background:white\;"><span style="color:#222222\;">overview of the TRVA project including Panther Island and Gateway Park.<br />\n<br />\nHe will also speak on the timeline to completion and the work being done by the fair contracting committee. JD will give minority participation numbers&nbsp\;and speak on the dollars awarded to minority firms.<br />\n<br />\nLastly\, JD will inform attendees about the coming Tarrant Regional Water District (TRWD) bond election\, including why the bond is needed and where the money is coming from.&nbsp\;<br />\n<br />\nPlease come out to hear about the status of this project\, the contract opportunities&nbsp\;with the TRVA&nbsp\;project and the bond election.&nbsp\;</span></span>
LOCATION:Community Christian Church Education Annex Building 1720 E Vickery Blvd Fort Worth\, TX 76104
UID:e.1262.3092
SEQUENCE:3
DTSTAMP:20260422T040929Z
URL:https://business.fwmbcc.org/events/details/mlcc-with-trva-trwd-3092
END:VEVENT

END:VCALENDAR
