BEGIN:VCALENDAR
VERSION:2.0
PRODID:-//ChamberMaster//Event Calendar 2.0//EN
METHOD:PUBLISH
X-PUBLISHED-TTL:P3D
REFRESH-INTERVAL:P3D
CALSCALE:GREGORIAN
BEGIN:VEVENT
DTSTART:20180221T180000Z
DTEND:20180221T190000Z
X-MICROSOFT-CDO-ALLDAYEVENT:FALSE
SUMMARY:MLCC: The Intersection of Economics & Politics
DESCRIPTION:As the city continues to grow and we see Economic Development Strategic Plans finalized\, our Chamber wants to be sure we are helping community members understand how to make an impact. During this panel session with local elected leaders we will address the theme of "The Intersection of Economics and Politics". The goal is to help community members understand how they can effect economics\, using politics as a vehicle.\n\n\n\nWe will be joined by Councilwoman Kelly Allen Gray\, Councilwoman Gyna Bivens\, State Representative Nicole Collier and Commissioner Roy Brooks to speak on the topic.
X-ALT-DESC;FMTTYPE=text/html:<span style="color: rgb(75\, 79\, 86)\; font-family: Helvetica\, Arial\, sans-serif\; font-size: 14px\; background-color: rgb(255\, 255\, 255)\;">As the city continues to grow and we see Economic Development Strategic Plans finalized\, our Chamber wants to be sure we are helping community members understand how to make an impact. During this panel session with local elected leaders we will address the theme of &ldquo\;The Intersection of Economics and Politics&rdquo\;. The goal is to help community members understand how they can effect economics\, using politics as a vehicle.<br />\n<br />\nWe will be joined by Councilwoman Kelly Allen Gray\, Councilwoman Gyna Bivens\, State Representative&nbsp\;Nicole Collier and Commissioner Roy Brooks to speak on the topic.&nbsp\;</span>
LOCATION:Community Christian Church --- Annex Bldg. 1720 E Vickery Blvd Fort Worth\, TX 76104
UID:e.1262.3080
SEQUENCE:3
DTSTAMP:20260422T010111Z
URL:https://business.fwmbcc.org/events/details/mlcc-the-intersection-of-economics-politics-3080
END:VEVENT

END:VCALENDAR
