BEGIN:VCALENDAR
VERSION:2.0
PRODID:-//ChamberMaster//Event Calendar 2.0//EN
METHOD:PUBLISH
X-PUBLISHED-TTL:P3D
REFRESH-INTERVAL:P3D
CALSCALE:GREGORIAN
BEGIN:VEVENT
DTSTART:20170315T170000Z
DTEND:20170315T183000Z
X-MICROSOFT-CDO-ALLDAYEVENT:FALSE
SUMMARY:MLCC Chamber Day: Women's Business Divison
DESCRIPTION:Benefits\, Challenges and Opportunities of being a female leader in Fort Worth\n\n\n\nThe FWMBCC Women's Business Division will be featured for this months Chamber Day at MLCC. We will have a panel of women business owners in Fort Worth.
X-ALT-DESC;FMTTYPE=text/html:Benefits\, Challenges and Opportunities of being a female leader in Fort Worth<br />\n<br />\nThe FWMBCC Women&#39\;s Business Division will be featured for this months Chamber Day at MLCC. We will have a panel of women business owners in Fort Worth.<br />\n<br />\n&nbsp\;
LOCATION:Community Christian Church
UID:e.1262.3029
SEQUENCE:3
DTSTAMP:20260421T160706Z
URL:https://business.fwmbcc.org/events/details/mlcc-chamber-day-women-s-business-divison-3029
END:VEVENT

END:VCALENDAR
