BEGIN:VCALENDAR
VERSION:2.0
PRODID:-//ChamberMaster//Event Calendar 2.0//EN
METHOD:PUBLISH
X-PUBLISHED-TTL:P3D
REFRESH-INTERVAL:P3D
CALSCALE:GREGORIAN
BEGIN:VEVENT
DTSTART:20151202T000000Z
DTEND:20151202T013000Z
X-MICROSOFT-CDO-ALLDAYEVENT:FALSE
SUMMARY:Minority Women Owned/Disadvantaged Business Certifications
DESCRIPTION:This workshop covers the 8 different certifications for minority\, women-owned\, disadvantaged\, veteran owned and/or historically under-utilized businesses.
X-ALT-DESC;FMTTYPE=text/html:This workshop covers the 8 different certifications for minority\, women-owned\, disadvantaged\, veteran owned and/or historically under-utilized businesses.
LOCATION:Business Assistance Center\, 1150 S. Freeway\, Ft. Worth Tx
UID:e.1262.2304
SEQUENCE:3
DTSTAMP:20260422T121846Z
URL:https://business.fwmbcc.org/events/details/minority-women-owned-disadvantaged-business-certifications-12-01-2015-2304
END:VEVENT

END:VCALENDAR
