BEGIN:VCALENDAR
VERSION:2.0
PRODID:-//ChamberMaster//Event Calendar 2.0//EN
METHOD:PUBLISH
X-PUBLISHED-TTL:P3D
REFRESH-INTERVAL:P3D
CALSCALE:GREGORIAN
BEGIN:VEVENT
DTSTART:20150914T230000Z
DTEND:20150915T010000Z
X-MICROSOFT-CDO-ALLDAYEVENT:FALSE
SUMMARY:Maximizing Lifetime Social Security Benefits
DESCRIPTION:Four strategies to help maximize lifetime Social Security benefits.
X-ALT-DESC;FMTTYPE=text/html:Four strategies to help maximize lifetime Social Security benefits.
LOCATION:Idea Works Meeting Room\, 600 E. Rosedale\, Fort Worth TX
UID:e.1262.2242
SEQUENCE:3
DTSTAMP:20260422T073411Z
URL:https://business.fwmbcc.org/events/details/maximizing-lifetime-social-security-benefits-09-14-2015-2242
END:VEVENT

END:VCALENDAR
