BEGIN:VCALENDAR
VERSION:2.0
PRODID:-//ChamberMaster//Event Calendar 2.0//EN
METHOD:PUBLISH
X-PUBLISHED-TTL:P3D
REFRESH-INTERVAL:P3D
CALSCALE:GREGORIAN
BEGIN:VEVENT
DTSTART:20160517T230000Z
DTEND:20160518T010000Z
X-MICROSOFT-CDO-ALLDAYEVENT:FALSE
SUMMARY:MAC3 DFW Career Fair
DESCRIPTION:The Metroplex Area Consortium of Career Centers (MAC3\; MACCC.org)would like to invite you to participate in our Spring 2016 DFW Career Fair that will be held on Tuesday\, May 17th\, 2016 from 6:00-8:00PM. The fair will be held at the Lewisville Convention Center - Hilton Garden Inn in Lewisville\, Texas.\n\nDuring this event\, your company will be able to recruit degreed candidates and alumni from the DFW Metroplex. The event will be advertised to students and alumni (including May grads!) at each of our 34 membership colleges!\n\n\n\nTo Register: Please go to MAC3 website for registration form. Also attached is a review of the last 2015 Spring Career Fair.\n\nIf you have any questions\, please feel free to contact the event planning committee at careerfair@maccc.org.
X-ALT-DESC;FMTTYPE=text/html:<p style="color: rgb(34\, 34\, 34)\; font-family: arial\, sans-serif\; font-size: 12.8px\; line-height: normal\;"><br />\nThe&nbsp\;<strong>Metroplex Area Consortium of Career Centers</strong>&nbsp\;<strong>(MAC3\;&nbsp\;</strong><a href="http://www.maccc.org/" style="color: rgb(17\, 85\, 204)\;" target="_blank">MACCC.org</a><strong>)</strong>would like to invite you to participate in our&nbsp\;<strong>Spring 2016 DFW Career Fair</strong>&nbsp\;that will be held on&nbsp\;<strong>Tuesday\, May 17th\, 2016</strong>&nbsp\;from&nbsp\;<strong>6:00-<span class="aBn" data-term="goog_1732070647" style="border-bottom-width: 1px\; border-bottom-style: dashed\; border-bottom-color: rgb(204\, 204\, 204)\; position: relative\; top: -2px\; z-index: 0\;" tabindex="0"><span class="aQJ" style="position: relative\; top: 2px\; z-index: -1\;">8:00PM</span></span></strong>. The fair will be held at the<strong>&nbsp\;Lewisville Convention Center - Hilton Garden Inn</strong>&nbsp\;in Lewisville\, Texas.</p>\n\n<p style="color: rgb(34\, 34\, 34)\; font-family: arial\, sans-serif\; font-size: 12.8px\; line-height: normal\;">During this event\, your company will be able to recruit degreed candidates and alumni from the DFW Metroplex. The event will be advertised to students and alumni (including May grads!) at each of our&nbsp\;<strong>34 membership colleges</strong>!<br />\n<br />\n<strong><u>To Register:</u></strong>&nbsp\;Please go to&nbsp\;<a href="http://www.maccc.org/#!employers/c202b" style="color: rgb(17\, 85\, 204)\;" target="_blank">MAC3 website</a>&nbsp\;for registration form. Also attached is a review of the last 2015 Spring Career Fair.</p>\n\n<p style="color: rgb(34\, 34\, 34)\; font-family: arial\, sans-serif\; font-size: 12.8px\; line-height: normal\;">If you have any questions\, please feel free to contact the event planning committee at careerfair@maccc.org.&nbsp\;</p>\n
LOCATION:Lewisville Convention Center - Hilton Garden Inn
UID:e.1262.2842
SEQUENCE:3
DTSTAMP:20260422T073411Z
URL:https://business.fwmbcc.org/events/details/mac3-dfw-career-fair-05-17-2016-2842
END:VEVENT

END:VCALENDAR
