BEGIN:VCALENDAR
VERSION:2.0
PRODID:-//ChamberMaster//Event Calendar 2.0//EN
METHOD:PUBLISH
X-PUBLISHED-TTL:P3D
REFRESH-INTERVAL:P3D
CALSCALE:GREGORIAN
BEGIN:VEVENT
DTSTART:20151202T193000Z
DTEND:20151202T213000Z
X-MICROSOFT-CDO-ALLDAYEVENT:FALSE
SUMMARY:M/WBE Certification Academy-Dallas
DESCRIPTION:Free academy will provide Minority Women Business Enterprises an introduction to the certification process.
X-ALT-DESC;FMTTYPE=text/html:Free academy will provide Minority Women Business Enterprises an introduction to the certification process.
LOCATION:Dallas ISD Administration Bldg.\, Room 105\, 3700 Ross Av.\, Dallas Tx
UID:e.1262.2301
SEQUENCE:3
DTSTAMP:20260422T121708Z
URL:https://business.fwmbcc.org/events/details/m-wbe-certification-academy-dallas-12-02-2015-2301
END:VEVENT

END:VCALENDAR
