BEGIN:VCALENDAR
VERSION:2.0
PRODID:-//ChamberMaster//Event Calendar 2.0//EN
METHOD:PUBLISH
X-PUBLISHED-TTL:P3D
REFRESH-INTERVAL:P3D
CALSCALE:GREGORIAN
BEGIN:VEVENT
DTSTART:20160421T163000Z
DTEND:20160421T183000Z
X-MICROSOFT-CDO-ALLDAYEVENT:FALSE
SUMMARY:Lunch and Learn Workshop - Developing Effective Responses to RFPs
DESCRIPTION:"Lunch and Learn" Workshop - Developing Effective Responses to RFPs\n\nby Fort Worth Black Chamber of Commerce.\n\n \n\n	Are you a small business looking to start responding to Request For Proposals (RFPs)?\n	Does your business respond to RFPs\; but not seeing the desired results?\n\n\nIf you answered "yes" to either or both of these questions\, you do not want to miss this month's "Lunch & Learn" workshop.  We will be discussing "Developing Effective Responses to RFPs".  Our presenter will be Charles Boswell\, Public Policy Director of the Tarrant Area Food Bank and a FWMBCC Board Member.   \n\n \n\nThe schedule is as follows:\n\n\n	11:30am - 11:45am: Check-In & Networking\n	11:45am - 12:00pm: Order Food\n	12:00pm - 1:00pm: Lunch and workshop\n	1:00pm - 1:30pm: QA & networking\n\n\nCome out and obtain this valuable information to advance your business!
X-ALT-DESC;FMTTYPE=text/html:<span style="font-size:14px\;"><span style="font-family:tahoma\;"><span style="color:#000000\;">&quot\;Lunch and Learn&quot\; Workshop -&nbsp\;Developing Effective Responses to RFPs<br />\nby Fort Worth Black Chamber of Commerce.</span></span></span><br />\n&nbsp\;\n<ul style="margin: 0px\; padding-right: 0px\; padding-left: 1.5em\; color: rgb(102\, 106\, 115)\; font-family: 'Benton Sans'\, 'Helvetica Neue'\, Helvetica\, Roboto\, Arial\, sans-serif\; font-size: 15px\; letter-spacing: 0.5px\; line-height: 22px\;">\n	<li style="margin: 0px\; padding: 0px\;"><span style="font-size:14px\;"><span style="font-family:tahoma\;"><span style="color:#000000\;">Are you a small business looking to start responding to Request For Proposals (RFPs)?</span></span></span></li>\n	<li style="margin: 0px\; padding: 5px 0px 0px\;"><span style="font-size:14px\;"><span style="font-family:tahoma\;"><span style="color:#000000\;">Does your business respond to RFPs\; but not seeing the desired results?</span></span></span></li>\n</ul>\n\n<p style="margin: 0px\; padding: 10px 0px 0px\; color: rgb(102\, 106\, 115)\; font-family: 'Benton Sans'\, 'Helvetica Neue'\, Helvetica\, Roboto\, Arial\, sans-serif\; font-size: 15px\; letter-spacing: 0.5px\; line-height: 22px\;"><span style="font-size:14px\;"><span style="font-family:tahoma\;"><span style="color:#000000\;">If you answered &quot\;<span style="font-weight: 700\; padding-top: 0px\;"><em style="padding-top: 0px\;">yes</em></span>&quot\; to either or both of these questions\, you do not want to miss this month&#39\;s &quot\;Lunch &amp\; Learn&quot\; workshop.&nbsp\; We will be discussing &quot\;<span style="font-weight: 700\;">Developing Effective Responses to RFPs</span>&quot\;.&nbsp\; Our presenter will be Charles Boswell\, Public Policy Director of the Tarrant Area Food Bank and a FWMBCC Board Member. &nbsp\;&nbsp\;</span></span></span><br />\n&nbsp\;</p>\n\n<p style="margin: 0px\; padding: 10px 0px 0px\; color: rgb(102\, 106\, 115)\; font-family: 'Benton Sans'\, 'Helvetica Neue'\, Helvetica\, Roboto\, Arial\, sans-serif\; font-size: 15px\; letter-spacing: 0.5px\; line-height: 22px\;"><span style="font-size:14px\;"><span style="font-family:tahoma\;"><span style="color:#000000\;"><span style="font-weight: 700\; padding-top: 0px\;">The schedule is as follows:</span></span></span></span></p>\n\n<ul style="margin: 0px\; padding-top: 10px\; padding-right: 0px\; padding-left: 1.5em\; color: rgb(102\, 106\, 115)\; font-family: 'Benton Sans'\, 'Helvetica Neue'\, Helvetica\, Roboto\, Arial\, sans-serif\; font-size: 15px\; letter-spacing: 0.5px\; line-height: 22px\;">\n	<li style="margin: 0px\; padding: 0px\;"><span style="font-size:14px\;"><span style="font-family:tahoma\;"><span style="color:#000000\;">11:30am - 11:45am: Check-In &amp\; Networking</span></span></span></li>\n	<li style="margin: 0px\; padding: 5px 0px 0px\;"><span style="font-size:14px\;"><span style="font-family:tahoma\;"><span style="color:#000000\;">11:45am - 12:00pm: Order Food</span></span></span></li>\n	<li style="margin: 0px\; padding: 5px 0px 0px\;"><span style="font-size:14px\;"><span style="font-family:tahoma\;"><span style="color:#000000\;">12:00pm - 1:00pm: Lunch and workshop</span></span></span></li>\n	<li style="margin: 0px\; padding: 5px 0px 0px\;"><span style="font-size:14px\;"><span style="font-family:tahoma\;"><span style="color:#000000\;">1:00pm - 1:30pm: QA &amp\; networking</span></span></span></li>\n</ul>\n\n<h2 style="margin: 0px\; padding: 10px 0px 0px\; color: rgb(40\, 44\, 53)\; font-size: 20px\; line-height: 25px\; font-weight: 700\; font-family: 'Benton Sans'\, 'Helvetica Neue'\, Helvetica\, Roboto\, Arial\, sans-serif\; letter-spacing: 0.5px\;"><span style="font-size:14px\;"><span style="font-family:tahoma\;"><span style="color:#000000\;">Come out and obtain this valuable information to advance your business!</span></span></span></h2>\n
LOCATION:Pappadeaux Seafood Kitchen - 2708 West Freeway\, Fort Worth\, TX 76102
UID:e.1262.2852
SEQUENCE:3
DTSTAMP:20260422T091123Z
URL:https://business.fwmbcc.org/events/details/lunch-and-learn-workshop-developing-effective-responses-to-rfps-04-21-2016-2852
END:VEVENT

END:VCALENDAR
