BEGIN:VCALENDAR
VERSION:2.0
PRODID:-//ChamberMaster//Event Calendar 2.0//EN
METHOD:PUBLISH
X-PUBLISHED-TTL:P3D
REFRESH-INTERVAL:P3D
CALSCALE:GREGORIAN
BEGIN:VEVENT
DTSTART:20180726T163000Z
DTEND:20180726T183000Z
X-MICROSOFT-CDO-ALLDAYEVENT:FALSE
SUMMARY:Lunch and Learn with Google
DESCRIPTION:Please join us for a lunch and learn with Google. Joining us from the Google headquarters in Mountain View will be Bryan Solar and Kristine Rhodes. \n\n						They will be discussing how to get your business online and tips and tricks for how to succeed once you are online. This workshop will be very hands on so please bring your laptop. By the end\, your business will be online and you will know how to best utilize your online presence. \n\n						http://events.constantcontact.com/register/event?llr=fg4jspcab&oeidk=a07efhk79yza398ed3a
X-ALT-DESC;FMTTYPE=text/html:<table border="0" cellpadding="0" cellspacing="0" class="m_-1503021642395210752m_-6747841425864929700galileo-ap-layout-editor" style="color: rgb(34\, 34\, 34)\; font-family: arial\, sans-serif\; font-size: 12.8px\; background-color: rgb(255\, 255\, 255)\; min-width: 100%\;" width="100%">\n	<tbody>\n		<tr>\n			<td align="left" class="m_-1503021642395210752m_-6747841425864929700content m_-1503021642395210752m_-6747841425864929700editor-col m_-1503021642395210752m_-6747841425864929700OneColumnMobile" style="margin: 0px\;" valign="top" width="100%">\n			<div class="m_-1503021642395210752m_-6747841425864929700gl-contains-text">\n			<table border="0" cellpadding="0" cellspacing="0" width="100%">\n				<tbody>\n					<tr>\n						<td align="left" class="m_-1503021642395210752m_-6747841425864929700editor-text m_-1503021642395210752m_-6747841425864929700content-text" style="font-family: &quot\;Times New Roman&quot\;\, Times\, serif\; margin: 0px\; color: rgb(51\, 51\, 51)\; display: block\; font-size: 16px\; padding: 10px 20px\; word-wrap: break-word\;" valign="top">\n						<div class="m_-1503021642395210752m_-6747841425864929700text-container m_-1503021642395210752m_-6747841425864929700galileo-ap-content-editor">\n						<div><span style="font-family: Arial\, Verdana\, Helvetica\, sans-serif\;">Please join us for a lunch and learn with Google. Joining us from the Google headquarters in Mountain View will be Bryan Solar and Kristine Rhodes.&nbsp\;</span></div>\n\n						<div><span style="font-family: Arial\, Verdana\, Helvetica\, sans-serif\;">They will be discussing how to get your business online and tips and tricks for how to succeed once you are online. This workshop will be very hands on so please bring your laptop. By the end\, your business will be online and you will know how to best utilize your online presence.&nbsp\;</span></div>\n\n						<div><a data-saferedirecturl="https://www.google.com/url?hl=en&amp\;q=http://r20.rs6.net/tn.jsp?f%3D001OUl8_4D22GsOhrVY8gySrP0u8lQNqmPNcu8IbUjnh2jRVqZrplBefm2wPDvKClhO3geRAjM67woXoLA3vup2DpBqvVKdWJsiYJk5dziuIilc1-EGEd3lOoqTis2YTk5Z_HkZYe8sC6xF9Gb9CaRxe5XeV_gV6QC2iOaeDuZOVgaNs4XNn_CiqmPHnt1xHgQ-b8lzSgPBJvJR4GCbBi23ko9qeO3PmQHBBFwKSLN7ggcurR7TDSCU5A%3D%3D%26c%3DYPjvK8qF2o6mrUsiYwJTD-8ILrAn8nUfZxxuG2FWujREB7R5e7eQ-w%3D%3D%26ch%3DO6tYgmwE8i35KX0G90ixiLrm50qmARnrIti2Vf0S-cxs0uUJEm_Ckw%3D%3D&amp\;source=gmail&amp\;ust=1531514108035000&amp\;usg=AFQjCNHfPNgrMvsMP3NnM0P5oydCyjQrVw" href="http://r20.rs6.net/tn.jsp?f=001OUl8_4D22GsOhrVY8gySrP0u8lQNqmPNcu8IbUjnh2jRVqZrplBefm2wPDvKClhO3geRAjM67woXoLA3vup2DpBqvVKdWJsiYJk5dziuIilc1-EGEd3lOoqTis2YTk5Z_HkZYe8sC6xF9Gb9CaRxe5XeV_gV6QC2iOaeDuZOVgaNs4XNn_CiqmPHnt1xHgQ-b8lzSgPBJvJR4GCbBi23ko9qeO3PmQHBBFwKSLN7ggcurR7TDSCU5A==&amp\;c=YPjvK8qF2o6mrUsiYwJTD-8ILrAn8nUfZxxuG2FWujREB7R5e7eQ-w==&amp\;ch=O6tYgmwE8i35KX0G90ixiLrm50qmARnrIti2Vf0S-cxs0uUJEm_Ckw==" style="color: rgb(91\, 91\, 91)\; font-family: Arial\, Verdana\, Helvetica\, sans-serif\; font-size: 12px\;" target="_blank">http://events.constantcontact.<wbr />com/register/event?llr=fg4jspc<wbr />ab&amp\;oeidk=a07efhk79yza398ed3a</a></div>\n						</div>\n						</td>\n					</tr>\n				</tbody>\n			</table>\n			</div>\n			</td>\n		</tr>\n	</tbody>\n</table>\n\n<table border="0" cellpadding="0" cellspacing="0" class="m_-1503021642395210752m_-6747841425864929700galileo-ap-layout-editor" style="color: rgb(34\, 34\, 34)\; font-family: arial\, sans-serif\; font-size: 12.8px\; background-color: rgb(255\, 255\, 255)\; min-width: 100%\;" width="100%">\n	<tbody>\n		<tr>\n			<td align="left" class="m_-1503021642395210752m_-6747841425864929700signature m_-1503021642395210752m_-6747841425864929700editor-col m_-1503021642395210752m_-6747841425864929700OneColumnMobile" style="margin: 0px\;" valign="top" width="100%">\n			<div class="m_-1503021642395210752m_-6747841425864929700gl-contains-text">&nbsp\;</div>\n			</td>\n		</tr>\n	</tbody>\n</table>\n
LOCATION:BAC Center 1150 South Freeway Fort Worth\, Texas 76104
UID:e.1262.4126
SEQUENCE:3
DTSTAMP:20260422T091049Z
URL:https://business.fwmbcc.org/events/details/lunch-and-learn-with-google-4126
END:VEVENT

END:VCALENDAR
