BEGIN:VCALENDAR
VERSION:2.0
PRODID:-//ChamberMaster//Event Calendar 2.0//EN
METHOD:PUBLISH
X-PUBLISHED-TTL:P3D
REFRESH-INTERVAL:P3D
CALSCALE:GREGORIAN
BEGIN:VEVENT
DTSTART:20160419T163000Z
DTEND:20160419T180000Z
X-MICROSOFT-CDO-ALLDAYEVENT:FALSE
SUMMARY:Let's Talk Marketing (7 part series) Different but Dependent
DESCRIPTION:This is the first session in a 7 part Marketing series. Bring your lunch and questions.
X-ALT-DESC;FMTTYPE=text/html:This is the first session in a 7 part Marketing series. Bring your lunch and questions.
LOCATION:Business Assistance Center 1150 S. Freeway Fort Worth TX
UID:e.1262.2832
SEQUENCE:3
DTSTAMP:20260422T104111Z
URL:https://business.fwmbcc.org/events/details/let-s-talk-marketing-7-part-series-different-but-dependent-04-19-2016-2832
END:VEVENT

END:VCALENDAR
