BEGIN:VCALENDAR
VERSION:2.0
PRODID:-//ChamberMaster//Event Calendar 2.0//EN
METHOD:PUBLISH
X-PUBLISHED-TTL:P3D
REFRESH-INTERVAL:P3D
CALSCALE:GREGORIAN
BEGIN:VEVENT
DTSTART:20151117T173000Z
DTEND:20151117T190000Z
X-MICROSOFT-CDO-ALLDAYEVENT:FALSE
SUMMARY:Let's Talk Marketing
DESCRIPTION:Get your marketing questions answered & your ideas vetted as an active participant during this discussion on business promotions. Bring an advertising/marketing scenario & others will pitch in with ideas and suggestions.
X-ALT-DESC;FMTTYPE=text/html:Get your marketing questions answered &amp\; your ideas vetted as an active participant during this discussion on business promotions. Bring an advertising/marketing scenario &amp\; others will pitch in with ideas and suggestions.
LOCATION:Ft Worth Business Assistance Center at 1150 S. Freeway\, Ft. Worth TX
UID:e.1262.2292
SEQUENCE:3
DTSTAMP:20260422T104437Z
URL:https://business.fwmbcc.org/events/details/let-s-talk-marketing-11-17-2015-2292
END:VEVENT

END:VCALENDAR
