BEGIN:VCALENDAR
VERSION:2.0
PRODID:-//ChamberMaster//Event Calendar 2.0//EN
METHOD:PUBLISH
X-PUBLISHED-TTL:P3D
REFRESH-INTERVAL:P3D
CALSCALE:GREGORIAN
BEGIN:VEVENT
DTSTART:20160213T163000Z
DTEND:20160213T200000Z
X-MICROSOFT-CDO-ALLDAYEVENT:FALSE
SUMMARY:Let's Play Bingo Ladies Luncheon
DESCRIPTION:Event Benefits Alliance for Children\, A Children's Advocacy Center Enjoy champagne lunch\, silent auction\, fabulous table prizes and BINGO!!!
X-ALT-DESC;FMTTYPE=text/html:Event Benefits Alliance for Children\, A Children&#39\;s Advocacy Center Enjoy champagne lunch\, silent auction\, fabulous table prizes and BINGO!!!
LOCATION:Omni Fort Worth Hotel
UID:e.1262.2311
SEQUENCE:3
DTSTAMP:20260422T122016Z
URL:https://business.fwmbcc.org/events/details/let-s-play-bingo-ladies-luncheon-02-13-2016-2311
END:VEVENT

END:VCALENDAR
