BEGIN:VCALENDAR
VERSION:2.0
PRODID:-//ChamberMaster//Event Calendar 2.0//EN
METHOD:PUBLISH
X-PUBLISHED-TTL:P3D
REFRESH-INTERVAL:P3D
CALSCALE:GREGORIAN
BEGIN:VEVENT
DTSTART:20160418T223000Z
DTEND:20160419T000000Z
X-MICROSOFT-CDO-ALLDAYEVENT:FALSE
SUMMARY:Leadership ISD - Informational Session
DESCRIPTION:Passionate about making an impact in education in our community?\n\n\n\nCome out to the Leadership ISD Informational Session to learn how you can contribute!
X-ALT-DESC;FMTTYPE=text/html:<br />\n<strong>Passionate about making an impact in education in our community?</strong><br />\n<br />\nCome out to the Leadership ISD Informational Session to learn how you can contribute!
LOCATION:Blue Mesa Grill 1600 S. University Drive Fort Worth\, TX 76107
UID:e.1262.2845
SEQUENCE:3
DTSTAMP:20260422T091243Z
URL:https://business.fwmbcc.org/events/details/leadership-isd-informational-session-04-18-2016-2845
END:VEVENT

END:VCALENDAR
